BEGIN:VCALENDAR
VERSION:2.0
PRODID:-//Elisabeth Harnik - ECPv6.15.17.1//NONSGML v1.0//EN
CALSCALE:GREGORIAN
METHOD:PUBLISH
X-ORIGINAL-URL:http://elisabeth-harnik.at
X-WR-CALDESC:Events for Elisabeth Harnik
REFRESH-INTERVAL;VALUE=DURATION:PT1H
X-Robots-Tag:noindex
X-PUBLISHED-TTL:PT1H
BEGIN:VTIMEZONE
TZID:UTC
BEGIN:STANDARD
TZOFFSETFROM:+0000
TZOFFSETTO:+0000
TZNAME:UTC
DTSTART:20190101T000000
END:STANDARD
END:VTIMEZONE
BEGIN:VEVENT
DTSTART;TZID=UTC:20210509T203000
DTEND;TZID=UTC:20210509T203000
DTSTAMP:20260422T022343
CREATED:20230411T141006Z
LAST-MODIFIED:20230411T141006Z
UID:2694-1620592200-1620592200@elisabeth-harnik.at
SUMMARY:Elisabeth Harnik
DESCRIPTION:Plasmic QuartetAgnes Heginger\, vocalsElisabeth Harnik\, pianoUli Winter\, celloFredi Pröll\, drums
URL:http://elisabeth-harnik.at/event/elisabeth-harnik-110/
LOCATION:Porgy & Bess\, Riemergasse 11\, Vienna\, Vienna\, AT
END:VEVENT
BEGIN:VEVENT
DTSTART;TZID=UTC:20210416T193000
DTEND;TZID=UTC:20210416T193000
DTSTAMP:20260422T022343
CREATED:20230411T141006Z
LAST-MODIFIED:20230411T141006Z
UID:2695-1618601400-1618601400@elisabeth-harnik.at
SUMMARY:Elisabeth Harnik
DESCRIPTION:STREAMING CONCERTFraufeld Vol. 3 live recording session pt.1Fraufeld presents:Viola Hammer\, solo pianoUrsula Reicher\, voice & Thomas Gieferl\, drumsVIOLA FALB\, sax & ELISABETH HARNIK\, pianoCaroline Mayrhofer (recorder) & Tiziana Bertoncini (violin)Veronika Mayr (electronics) & Gobi Drab (recorder)
URL:http://elisabeth-harnik.at/event/elisabeth-harnik-111/
LOCATION:Echoraum\, Vienna\, AT
END:VEVENT
BEGIN:VEVENT
DTSTART;TZID=UTC:20210319T200000
DTEND;TZID=UTC:20210319T200000
DTSTAMP:20260422T022343
CREATED:20230411T141006Z
LAST-MODIFIED:20230411T141006Z
UID:2696-1616184000-1616184000@elisabeth-harnik.at
SUMMARY:Elisabeth Harnik
DESCRIPTION:CANCELLED!Alte Schmiede Wien Musikwerkstatt presentsLIVE STREAMDuo Centazzo/Harnik (US/I/A)Elisabeth Harnik\, pianoAndrea Centazzo\, percussion\, kat mallet & sampling
URL:http://elisabeth-harnik.at/event/elisabeth-harnik-112/
LOCATION:Alte Schmiede\, Schönlaterngasse 9\, 1010 Vienna\, Vienna\, AT
END:VEVENT
BEGIN:VEVENT
DTSTART;TZID=UTC:20210216T193000
DTEND;TZID=UTC:20210216T193000
DTSTAMP:20260422T022343
CREATED:20230411T141007Z
LAST-MODIFIED:20230411T141007Z
UID:2697-1613503800-1613503800@elisabeth-harnik.at
SUMMARY:Elisabeth Harnik
DESCRIPTION:CANCELLED!PHACE Series 20/21 – N°2PHACE | STRATAEnsemble Phace presents works by Anahita Abbasi\, Lorenzo Troiani\, Martin Jaggi\, Yair Klartag and ELISABETH HARNIK.Elisabeth Harnik: ‘someone will remember us’ for small ensemble (2020) PREMIERECommissioned by Phace\, supported by Wiener Konzerthaus and SKE-FondsArtists:Nacho de Paz\, conductorEnsemble PHACE:Alessandro Battici\, fluteReinhold Brunner\, clarinetMichael Krenn\, saxophoneStefan Obmann\, tromboneBerndt Thurner\, percussionMathilde Hoursiangou\, pianoIvana Pristasova\, violinPetra Ackermann\, violaRoland Schueler\, celloAlexandra Dienz\, double bassAlfred Reiter\, sound
URL:http://elisabeth-harnik.at/event/elisabeth-harnik-113/
LOCATION:Wiener Konzerthaus\, Berio Saal\, Vienna\, AT
END:VEVENT
BEGIN:VEVENT
DTSTART;TZID=UTC:20201201T190000
DTEND;TZID=UTC:20201201T190000
DTSTAMP:20260422T022343
CREATED:20230411T141007Z
LAST-MODIFIED:20230411T141007Z
UID:2698-1606849200-1606849200@elisabeth-harnik.at
SUMMARY:Elisabeth Harnik
DESCRIPTION:Musica Pura z Austrii – Scena Muzyki NowejLIVE STREAMChain Ensemble performs works by Gerd Kühr\, Anselm Schaufler\, ELISABETH HARNIK\, Beat Furrer and Bernhard Gander.Elisabeth Harnik: ‘re-framing I’ for ensemble (2010)Chain EnsembleAndrzej Bauer\, conductor
URL:http://elisabeth-harnik.at/event/elisabeth-harnik-114/
LOCATION:Nowy Teatr\, Warsaw\, PL
END:VEVENT
BEGIN:VEVENT
DTSTART;TZID=UTC:20201121T200000
DTEND;TZID=UTC:20201121T200000
DTSTAMP:20260422T022343
CREATED:20230411T141022Z
LAST-MODIFIED:20230411T141022Z
UID:2700-1605988800-1605988800@elisabeth-harnik.at
SUMMARY:Kunsthaltestelle Streckhammerhaus
DESCRIPTION:CANCELLED!STIO and Kunsthaltestelle Streckhammerhaus present:STIO EXTENDED & KUNSTHALTESTELLE GOES BIG BANDStyrian Improvisers Orchestra plus guestsElisabeth Harnik: MODULAR TRANSMUTATION #1 for improvising ensemble (2020)Josef Klammer: Wii STIO (2020)
URL:http://elisabeth-harnik.at/event/kunsthaltestelle-streckhammerhaus-7/
LOCATION:Forum Stadtpark\, Stadtpark 1\, 8010 Graz\, Graz\, AT
END:VEVENT
BEGIN:VEVENT
DTSTART;TZID=UTC:20201121T200000
DTEND;TZID=UTC:20201121T200000
DTSTAMP:20260422T022343
CREATED:20230411T141021Z
LAST-MODIFIED:20230411T141021Z
UID:2699-1605988800-1605988800@elisabeth-harnik.at
SUMMARY:Elisabeth Harnik
DESCRIPTION:CANCELLED!STIO and Kunsthaltestelle Streckhammerhaus present:STIO EXTENDED & KUNSTHALTESTELLE GOES BIG BANDStyrian Improvisers Orchestra plus guestsElisabeth Harnik: MODULAR TRANSMUTATION #1 for improvising ensemble (2020)Josef Klammer: Wii STIO (2020)
URL:http://elisabeth-harnik.at/event/elisabeth-harnik-115/
LOCATION:Forum Stadtpark\, Stadtpark 1\, 8010 Graz\, Graz\, AT
END:VEVENT
BEGIN:VEVENT
DTSTART;TZID=UTC:20201110T193000
DTEND;TZID=UTC:20201110T193000
DTSTAMP:20260422T022343
CREATED:20230411T141022Z
LAST-MODIFIED:20230411T141022Z
UID:2701-1605036600-1605036600@elisabeth-harnik.at
SUMMARY:Elisabeth Harnik
DESCRIPTION:CANCELLED!ZZM – Zentrum Zeitgenössischer Musik presentsDUO LÉANDRE/HARNIK (F/AT)Joëlle Léandre\, bass\, voiceElisabeth Harnik\, piano
URL:http://elisabeth-harnik.at/event/elisabeth-harnik-116/
LOCATION:Konzerthaus\, Vienna\, AT
END:VEVENT
BEGIN:VEVENT
DTSTART;TZID=UTC:20201109T180000
DTEND;TZID=UTC:20201109T180000
DTSTAMP:20260422T022343
CREATED:20230411T141022Z
LAST-MODIFIED:20230411T141022Z
UID:2702-1604944800-1604944800@elisabeth-harnik.at
SUMMARY:Elisabeth Harnik
DESCRIPTION:CANCELLED!WIEN MODERNJunge MusikMusic pupils perform works by Alexander J. Eberhard\, ELISABETH HARNIK\, Ivan Wyschnegradsky\, Dieter Schnebel\, Leopold Brauneiss\, Christoph Herndler and Helmut Schmidinger. Elisabeth Harnik: ‘Shi-Shi Odoshi I’ for two pianos tuned a quarter-tone apart (2001)
URL:http://elisabeth-harnik.at/event/elisabeth-harnik-117/
LOCATION:Reaktor\, Vienna\, AT
END:VEVENT
BEGIN:VEVENT
DTSTART;TZID=UTC:20201108T190000
DTEND;TZID=UTC:20201108T190000
DTSTAMP:20260422T022343
CREATED:20230411T141023Z
LAST-MODIFIED:20230411T141023Z
UID:2703-1604862000-1604862000@elisabeth-harnik.at
SUMMARY:Elisabeth Harnik
DESCRIPTION:Music Unlimited 34 Festival – In StreamHarnik/Kern Duo (A)Blonk/Harnik/Kern Trio (A/NL)Jaap Blonk\, voice\, electronicsElisabeth Harnik\, pianoDidi Kern\, drums
URL:http://elisabeth-harnik.at/event/elisabeth-harnik-118/
LOCATION:Schlachthof Wels\, Wels\, AT
END:VEVENT
BEGIN:VEVENT
DTSTART;TZID=UTC:20201108T110000
DTEND;TZID=UTC:20201108T110000
DTSTAMP:20260422T022343
CREATED:20230411T141036Z
LAST-MODIFIED:20230411T141036Z
UID:2704-1604833200-1604833200@elisabeth-harnik.at
SUMMARY:Elisabeth Harnik
DESCRIPTION:CANCELLED!DUO LÉANDRE/HARNIK (F/AT)Joëlle Léandre\, bass\, voiceElisabeth Harnik\, piano
URL:http://elisabeth-harnik.at/event/elisabeth-harnik-119/
LOCATION:Zoglau3 Raum für Musik\, Zoglau\, DE
END:VEVENT
BEGIN:VEVENT
DTSTART;TZID=UTC:20201103T190000
DTEND;TZID=UTC:20210519T000000
DTSTAMP:20260422T022343
CREATED:20230411T141036Z
LAST-MODIFIED:20230411T141036Z
UID:2705-1604430000-1621382400@elisabeth-harnik.at
SUMMARY:Kunsthaltestelle Streckhammerhaus
DESCRIPTION:KUNSTHALTESTELLE GOES TACETKunstschweigen bis 19. Mai 2021
URL:http://elisabeth-harnik.at/event/kunsthaltestelle-streckhammerhaus-8/
LOCATION:Kunsthaltestelle Streckhammerhaus\, Frohnleiten\, Gamsgraben 4\, 8130 Frohnleiten\, Frohnleiten\, AT
END:VEVENT
BEGIN:VEVENT
DTSTART;TZID=UTC:20201103T120000
DTEND;TZID=UTC:20210519T000000
DTSTAMP:20260422T022343
CREATED:20230411T141036Z
LAST-MODIFIED:20230411T141036Z
UID:2706-1604404800-1621382400@elisabeth-harnik.at
SUMMARY:Elisabeth Harnik
DESCRIPTION:AisL_Artist in Lockdown but active
URL:http://elisabeth-harnik.at/event/elisabeth-harnik-120/
LOCATION:Kunsthaltestelle Streckhammerhaus\, Frohnleiten\, Gamsgraben 4\, 8130 Frohnleiten\, Frohnleiten\, AT
END:VEVENT
BEGIN:VEVENT
DTSTART;TZID=UTC:20201017T223000
DTEND;TZID=UTC:20201017T223000
DTSTAMP:20260422T022343
CREATED:20230411T141037Z
LAST-MODIFIED:20230411T141037Z
UID:2707-1602973800-1602973800@elisabeth-harnik.at
SUMMARY:Elisabeth Harnik
DESCRIPTION:CANCELLED!Jazzclub “Fuchs” E.V. Chemnitz presentsGrenzüberschreitungen XII – 2020Plasmic QuartetAgnes Heginger\, voiceELISABETH HARNIK\, pianoUli Winter\, celloFredi Pröll\, drums
URL:http://elisabeth-harnik.at/event/elisabeth-harnik-121/
LOCATION:Das TIETZ (Neue Sächsische Galerie)\, Chemnitz\, DE
END:VEVENT
BEGIN:VEVENT
DTSTART;TZID=UTC:20201008T160000
DTEND;TZID=UTC:20201008T160000
DTSTAMP:20260422T022343
CREATED:20230411T141037Z
LAST-MODIFIED:20230411T141037Z
UID:2708-1602172800-1602172800@elisabeth-harnik.at
SUMMARY:Elisabeth Harnik
DESCRIPTION:Musikprotokoll im Steirischen Herbst presents:konfrontationen 8: Sound SeekersPupils at schools in Styria experimented with new sounds in cooperation with musicians from the Schallfeld Ensemble and composers of contemporary music. Improvisation and collective composition give rise to works in which the discoveries of the young musicians become audible.The pupils of the BORG in Hartberg will present their piece which they created together with Elisabeth Harnik and Annette Giesriegl.
URL:http://elisabeth-harnik.at/event/elisabeth-harnik-122/
LOCATION:Helmut List Halle\, Graz\, AT
END:VEVENT
BEGIN:VEVENT
DTSTART;TZID=UTC:20201007T200000
DTEND;TZID=UTC:20201007T200000
DTSTAMP:20260422T022343
CREATED:20230411T141051Z
LAST-MODIFIED:20230411T141051Z
UID:2709-1602100800-1602100800@elisabeth-harnik.at
SUMMARY:Elisabeth Harnik
DESCRIPTION:CANCELLED!Liccht presents:Elisabeth Harnik & Susanna Gartmayer + Ingird Schmoliner & Bernhard BreuerDUO GARTMAYER/HARNIK (A)Susanna Gartmayer\, bass clarinetElisabeth Harnik\, piano
URL:http://elisabeth-harnik.at/event/elisabeth-harnik-123/
LOCATION:Grillx\, Vienna\, AT
END:VEVENT
BEGIN:VEVENT
DTSTART;TZID=UTC:20201002T200000
DTEND;TZID=UTC:20201002T200000
DTSTAMP:20260422T022343
CREATED:20230411T141051Z
LAST-MODIFIED:20230411T141051Z
UID:2710-1601668800-1601668800@elisabeth-harnik.at
SUMMARY:Elisabeth Harnik
DESCRIPTION:DUO HARNIK/KURZMANN (A)Elisabeth Harnik\, pianoChristof Kurzmann\, lloopp
URL:http://elisabeth-harnik.at/event/elisabeth-harnik-124/
LOCATION:Echoraum\, Vienna\, AT
END:VEVENT
BEGIN:VEVENT
DTSTART;TZID=UTC:20200929T200000
DTEND;TZID=UTC:20200929T200000
DTSTAMP:20260422T022343
CREATED:20230411T141051Z
LAST-MODIFIED:20230411T141051Z
UID:2711-1601409600-1601409600@elisabeth-harnik.at
SUMMARY:Elisabeth Harnik
DESCRIPTION:Harnik/Ziegerhofer DuoElisabeth Harnik\, pianoReinhard Ziegerhofer\, bass
URL:http://elisabeth-harnik.at/event/elisabeth-harnik-125/
LOCATION:Cafe Wolf\, Graz\, AT
END:VEVENT
BEGIN:VEVENT
DTSTART;TZID=UTC:20200918T180000
DTEND;TZID=UTC:20200918T180000
DTSTAMP:20260422T022343
CREATED:20230411T141052Z
LAST-MODIFIED:20230411T141052Z
UID:2712-1600452000-1600452000@elisabeth-harnik.at
SUMMARY:Elisabeth Harnik
DESCRIPTION:KLANGSPUREN FESTIVAL 2020Tiroler Festival für Neue MusikElisabeth Harnik\, pianoFrank Gratkowski\, clarinets\, alto saxophone\, fluteEuropean Premiere
URL:http://elisabeth-harnik.at/event/elisabeth-harnik-126/
LOCATION:Silbersaal\, Schwaz\, AT
END:VEVENT
BEGIN:VEVENT
DTSTART;TZID=UTC:20200916T180000
DTEND;TZID=UTC:20200916T180000
DTSTAMP:20260422T022343
CREATED:20230411T141052Z
LAST-MODIFIED:20230411T141052Z
UID:2713-1600279200-1600279200@elisabeth-harnik.at
SUMMARY:Elisabeth Harnik
DESCRIPTION:Klangperformance beim HUMMING ROOM‘FEED THE BEES’ (Uraufführung)für Oboe\, Hümmelchen und Klanginstallation (2020)Komposition: ELISABETH HARNIKAusführende: Ewa Lovrenovic\, Oboe; Georg Greil\, Dudelsack (Hümmelchen)(Ersatztermin bei Schlechtwetter: 17.09.2020)
URL:http://elisabeth-harnik.at/event/elisabeth-harnik-127/
LOCATION:Humming Room\, Augarten\, Friedrichgasse 41\, Graz\, AT
END:VEVENT
BEGIN:VEVENT
DTSTART;TZID=UTC:20200726T180000
DTEND;TZID=UTC:20200726T180000
DTSTAMP:20260422T022343
CREATED:20230411T141106Z
LAST-MODIFIED:20230411T141106Z
UID:2714-1595786400-1595786400@elisabeth-harnik.at
SUMMARY:Kunsthaltestelle Streckhammerhaus
DESCRIPTION:DIE BIENE UND IHRE PRODUKTE IN DER KUNSTVortrag mit Claudia Antonius (indoor)Begrenzte Teilnehmerzahl!Eintritt: € 10Um Anmeldung unter 0680 21 33 086 wird gebeten!
URL:http://elisabeth-harnik.at/event/kunsthaltestelle-streckhammerhaus-9/
LOCATION:Kunsthaltestelle Streckhammerhaus\, Frohnleiten\, Gamsgraben 4\, 8130 Frohnleiten\, Frohnleiten\, AT
END:VEVENT
BEGIN:VEVENT
DTSTART;TZID=UTC:20200726T160000
DTEND;TZID=UTC:20200726T160000
DTSTAMP:20260422T022343
CREATED:20230411T141106Z
LAST-MODIFIED:20230411T141106Z
UID:2715-1595779200-1595779200@elisabeth-harnik.at
SUMMARY:Kunsthaltestelle Streckhammerhaus
DESCRIPTION:Artist in Residence 2020BETTINA EIGNER (Wien)WAX ROOM REMELTEDEröffnung der partizipativen Installation mit anschließendem ‘Wachslabor’ zum Mitmachen (outdoor)Eintritt frei!Begrenzte Teilnehmerzahl!Um Anmeldung unter 0680 21 33 086 wird gebeten!
URL:http://elisabeth-harnik.at/event/kunsthaltestelle-streckhammerhaus-10/
LOCATION:Kunsthaltestelle Streckhammerhaus (Außengelände)\, Frohnleiten\, AT
END:VEVENT
BEGIN:VEVENT
DTSTART;TZID=UTC:20200724T170000
DTEND;TZID=UTC:20201031T000000
DTSTAMP:20260422T022343
CREATED:20230411T141106Z
LAST-MODIFIED:20230411T141106Z
UID:2716-1595610000-1604102400@elisabeth-harnik.at
SUMMARY:Elisabeth Harnik
DESCRIPTION:HUMMING ROOM | KLANGKUNST IM ÖFFENTLICHEN RAUM  Juli bis Oktober 2020 im Rahmen von GrazKulturjahr2020Konzept & Komposition: ELISABETH HARNIKAkustik: JAMILLA BALINT \nArchitektur: MILENA STAVRICDie Klang- und Wahrnehmungsinstallation HUMMING ROOM ist eine begehbare räumlich-dynamische Konstruktion basierend auf der Wabenform mit sechs beweglichen Wandelementen\, die eine gemeinsame Struktur bilden und mit Bienensummen bespielt werden.Im Zentrum steht die Erkundung der Wahrnehmung.
URL:http://elisabeth-harnik.at/event/elisabeth-harnik-128/
LOCATION:Humming Room\, Augarten\, Friedrichgasse 41\, Graz\, AT
END:VEVENT
BEGIN:VEVENT
DTSTART;TZID=UTC:20200717T180000
DTEND;TZID=UTC:20200718T000000
DTSTAMP:20260422T022343
CREATED:20230411T141107Z
LAST-MODIFIED:20230411T141107Z
UID:2717-1595008800-1595030400@elisabeth-harnik.at
SUMMARY:Elisabeth Harnik
DESCRIPTION:Festival Zeitgenössische MusikConcepts of Doing 2020 / Herrischried EditionSaturday\, July 18th\, 6 pm and 8.30 pmHarald Kimmig\, solo | Koch/Kocher/Loriot TrioHARNIK/LÉANDRE DUOJoëlle Léandre\, bassElisabeth Harnik\, piano
URL:http://elisabeth-harnik.at/event/elisabeth-harnik-129/
LOCATION:Freilichtmuseum Klausenhof\, Herrischried\, DE
END:VEVENT
BEGIN:VEVENT
DTSTART;TZID=UTC:20200710T130000
DTEND;TZID=UTC:20200712T000000
DTSTAMP:20260422T022343
CREATED:20230411T141107Z
LAST-MODIFIED:20230411T141107Z
UID:2718-1594386000-1594512000@elisabeth-harnik.at
SUMMARY:Elisabeth Harnik
DESCRIPTION:CATALYTIC SOUND FESTIVAL 2020“Three days of performances\, discussion\, and new work from the Catalytic co-op and their collaborators.”Presented by Catalytic Sound and Experimental Sound Studio ChicagoAll times PM\, US Central TimeFriday July 10thInterstitial videos by Kim AlpertProgram 1:1 Terrie Ex / Ab Baars / Ig Henneman1:35 Jaap Blonk2 Ken Vandermark2:25 Paal Nilssen-Love / Frode Gjerstad3 Discussion Panel 1 (Art/Music) with John Corbett\, Ben Hall\, Bonnie Jones. Moderated by Kim Alpert.Program 2:7 Sylvie Courvoisier7:25 Brandon Lopez7:50 Nate Wooley / Ikue Mori8:25 Fred Lonberg-Holm / Joe McPheeSaturday July 11thInterstitial videos by Patrick CainProgram 1:1 ELISABETH HARNIK1:25 Icepick (Corsano / Håker Flaten / Wooley)2 Mats Gustafsson2:25 Terrie Ex / Andy Moor3 Discussion Panel 2 (DIY/Funding) with Terrie Ex\, Luke Stewart\, Joe Morris. Moderated by Olivia Junell.Program 2:7 Tim Daisy & Dave Rempis7:35 Luke Stewart (with video by Patrick Cain)8 Joe McPhee8:25 Marker (Vandermark / Stewart / Clinkman / Marquette / Sudderberg)\nSunday July 12thInterstitial videos by Federico PeñalvaProgram 1:1 Chris Corsano1:30 Susan Alcorn / Macie Stewart / Tim Daisy2:05 Ingebrigt Håker Flaten / Håkon Kornstad2:40 Mats Gustafsson / Jaap Blonk / Fred Lonberg-Holm3:15 Discussion Panel 3 (Where Are We Going?) with Andy Moor\, Macie Stewart\, Nate Wooley.Program 2:7 Ikue Mori7:25 Claire Rousay7:50 Ben Hall / Bonnie Jones / Luke Stewart8:25 Joe Morris
URL:http://elisabeth-harnik.at/event/elisabeth-harnik-130/
LOCATION:Experimental Sound Studio’s Quarantine Concerts Stream\, Chicago\, US
END:VEVENT
BEGIN:VEVENT
DTSTART;TZID=UTC:20200530T200000
DTEND;TZID=UTC:20200530T200000
DTSTAMP:20260422T022343
CREATED:20230411T141121Z
LAST-MODIFIED:20230411T141121Z
UID:2719-1590868800-1590868800@elisabeth-harnik.at
SUMMARY:Elisabeth Harnik
DESCRIPTION:MOERS FESTIVAL 2020 presentsLive stream without audience51% feat Silke Eberhard and guestsSilke Eberhard (as)\, ELISABETH HARNIK (p)\, Liz Kosack (elec)\, Almut Kühne (voc)\, Mariá Portugal (dr\, elec\, voc)\, Yuko Oshima (dr)tbc
URL:http://elisabeth-harnik.at/event/elisabeth-harnik-131/
LOCATION:ENNI Eventhalle\, Moers\, DE
END:VEVENT
BEGIN:VEVENT
DTSTART;TZID=UTC:20200528T210000
DTEND;TZID=UTC:20200528T210000
DTSTAMP:20260422T022343
CREATED:20230411T141122Z
LAST-MODIFIED:20230411T141122Z
UID:2720-1590699600-1590699600@elisabeth-harnik.at
SUMMARY:Elisabeth Harnik
DESCRIPTION:Live stream without audienceLoft presents:Elisabeth Harnik & Frank Gratkowski (AT/DE)Elisabeth Harnik- pianoFrank Gratkowski – woodwinds
URL:http://elisabeth-harnik.at/event/elisabeth-harnik-132/
LOCATION:LOFT\, Cologne\, DE
END:VEVENT
BEGIN:VEVENT
DTSTART;TZID=UTC:20200520T200000
DTEND;TZID=UTC:20200520T200000
DTSTAMP:20260422T022343
CREATED:20230411T141122Z
LAST-MODIFIED:20230411T141122Z
UID:2721-1590004800-1590004800@elisabeth-harnik.at
SUMMARY:Elisabeth Harnik
DESCRIPTION:Jeunesse Vienna presents:»Fast Forward«: Drei Komponistinnen im FokusStudio production without audienceSHARAFI | HARNIK | POLEUKHINAEnsemble Schallfeld performs works by Marina Poleukhina\, Rojin Sharafi and Elisabeth HarnikMarina Poleukhina and Elisabeth Harnik perform solo improvisationsELISABETH HARNIK: ‘floating shadows on flatland’ for britone saxophone\, cello and double bass (2012)Rojin Sharafi\, synthesizer\, electronicsELISABETH HARNIK\, pianoMarina Poleukhina\, expressive objectsEnsemble SchallfeldLeonhard Garms\, conductorWolfgang Musil\, sound
URL:http://elisabeth-harnik.at/event/elisabeth-harnik-133/
LOCATION:ORF Radiokulturhaus Großer Saal\, Vienna\, AT
END:VEVENT
BEGIN:VEVENT
DTSTART;TZID=UTC:20200311T200000
DTEND;TZID=UTC:20200630T000000
DTSTAMP:20260422T022343
CREATED:20230411T141122Z
LAST-MODIFIED:20230411T141122Z
UID:2722-1583956800-1593475200@elisabeth-harnik.at
SUMMARY:Kunsthaltestelle Streckhammerhaus
DESCRIPTION:KUNSTHALTESTELLE GOES FERMATEKunstpause bis Ende Juni.F E R M A T EFermate\, Corona\, Convenientia\, Signum convenientiae\, ein Ruhepunkt\, der\, wenn er im Verlauf eines Tonstückes auf eine Pause fällt\, die Bewegung des Taktes auf einige Zeit unterbricht\, indem auf der betreffenden Pause etwas länger\, als ihre eigentliche Geltung fordert\, verweilt wird.
URL:http://elisabeth-harnik.at/event/kunsthaltestelle-streckhammerhaus-11/
LOCATION:Kunsthaltestelle Streckhammerhaus\, Frohnleiten\, Gamsgraben 4\, 8130 Frohnleiten\, Frohnleiten\, AT
END:VEVENT
BEGIN:VEVENT
DTSTART;TZID=UTC:20200311T000000
DTEND;TZID=UTC:20200630T000000
DTSTAMP:20260422T022343
CREATED:20230411T141123Z
LAST-MODIFIED:20230411T141123Z
UID:2723-1583884800-1593475200@elisabeth-harnik.at
SUMMARY:Elisabeth Harnik
DESCRIPTION:AiQ_Artist in Quarantine
URL:http://elisabeth-harnik.at/event/elisabeth-harnik-134/
LOCATION:Kunsthaltestelle Streckhammerhaus\, Frohnleiten\, Gamsgraben 4\, 8130 Frohnleiten\, Frohnleiten\, AT
END:VEVENT
END:VCALENDAR