BEGIN:VCALENDAR
VERSION:2.0
PRODID:-//Elisabeth Harnik - ECPv6.15.17.1//NONSGML v1.0//EN
CALSCALE:GREGORIAN
METHOD:PUBLISH
X-ORIGINAL-URL:http://elisabeth-harnik.at
X-WR-CALDESC:Events for Elisabeth Harnik
REFRESH-INTERVAL;VALUE=DURATION:PT1H
X-Robots-Tag:noindex
X-PUBLISHED-TTL:PT1H
BEGIN:VTIMEZONE
TZID:UTC
BEGIN:STANDARD
TZOFFSETFROM:+0000
TZOFFSETTO:+0000
TZNAME:UTC
DTSTART:20200101T000000
END:STANDARD
END:VTIMEZONE
BEGIN:VEVENT
DTSTART;TZID=UTC:20211122T193000
DTEND;TZID=UTC:20211122T193000
DTSTAMP:20260421T221115
CREATED:20230411T140807Z
LAST-MODIFIED:20230411T140807Z
UID:2658-1637609400-1637609400@elisabeth-harnik.at
SUMMARY:Elisabeth Harnik
DESCRIPTION:VERSCHOBEN!WIEN MODERNBaselitz 1 | Kontrapunkte | Furrer 3ProgrammGeorg Baselitz im Gespräch mit Bernhard Günther und Stephan Pauly über die Programme der nächsten TageMorton Feldman: For Franz Kline (1962)ELISABETH HARNIK: BEIN IM SPRUNG. Für Bass-Solo\, vier Frauenstimmen\, Violine\, Viola\, Violoncello und Kontrabass.Nach einem Text von Georg Baselitz (2021 UA)Kompositionsauftrag Wien Modern und Gesellschaft der Musikfreunde in WienBeat Furrer: Akusmata. Fünf kurze Stücke für Vokalensemble und Instrumente nach Fragmenten von Pythagoras (2020)Mitwirkende:Ensemble KontrapunkteCantando Admont – Vokalensemble für Alte und Neue Musik:Vokalensemble Leitung Cordula BürgiFriederike Kühl: Feldman (Sopran)Jaap Blonk: Harnik (Bass-Solo)Cordula Bürgi: LeitungKuratiert von Stephan Pauly\, Georg Baselitz und Bernhard GüntherProduktion Musikverein und Wien Modern
URL:http://elisabeth-harnik.at/event/elisabeth-harnik-76/
LOCATION:Musikverein Wien\, Musikvereinsplatz 1\, 1010 Wien\, Vienna\, AT
END:VEVENT
BEGIN:VEVENT
DTSTART;TZID=UTC:20211120T200000
DTEND;TZID=UTC:20211120T200000
DTSTAMP:20260421T221115
CREATED:20230411T140821Z
LAST-MODIFIED:20230411T140821Z
UID:2659-1637438400-1637438400@elisabeth-harnik.at
SUMMARY:Elisabeth Harnik
DESCRIPTION:GRENCSÓ-HARNIK-VANDERMARK-KERN QUARTETIstván Grencsó\, Ken Vandermark\, reedsElisabeth Harnik\, pianoDidi Kern\, drums
URL:http://elisabeth-harnik.at/event/elisabeth-harnik-77/
LOCATION:Szalon Beer Bar\, Pécs\, HU
END:VEVENT
BEGIN:VEVENT
DTSTART;TZID=UTC:20211119T193000
DTEND;TZID=UTC:20211119T193000
DTSTAMP:20260421T221115
CREATED:20230411T140821Z
LAST-MODIFIED:20230411T140821Z
UID:2660-1637350200-1637350200@elisabeth-harnik.at
SUMMARY:Elisabeth Harnik
DESCRIPTION:GRENCSÓ-HARNIK-VANDERMARK-KERN QUARTETIstván Grencsó\, Ken Vandermark\, reedsElisabeth Harnik\, pianoDidi Kern\, drums
URL:http://elisabeth-harnik.at/event/elisabeth-harnik-78/
LOCATION:Grand Café\, Szeged\, HU
END:VEVENT
BEGIN:VEVENT
DTSTART;TZID=UTC:20211118T190000
DTEND;TZID=UTC:20211118T190000
DTSTAMP:20260421T221115
CREATED:20230411T140822Z
LAST-MODIFIED:20230411T140822Z
UID:2661-1637262000-1637262000@elisabeth-harnik.at
SUMMARY:Elisabeth Harnik
DESCRIPTION:GRENCSÓ-HARNIK-VANDERMARK-KERN QUARTETIstván Grencsó\, Ken Vandermark\, reedsElisabeth Harnik\, pianoDidi Kern\, drums
URL:http://elisabeth-harnik.at/event/elisabeth-harnik-79/
LOCATION:Békéscsaba municipal library\, Békéscsaba\, HU
END:VEVENT
BEGIN:VEVENT
DTSTART;TZID=UTC:20211117T200000
DTEND;TZID=UTC:20211117T200000
DTSTAMP:20260421T221115
CREATED:20230411T140822Z
LAST-MODIFIED:20230411T140822Z
UID:2662-1637179200-1637179200@elisabeth-harnik.at
SUMMARY:Elisabeth Harnik
DESCRIPTION:GRENCSÓ-HARNIK-VANDERMARK-KERN QUARTETIstván Grencsó\, Ken Vandermark\, reedsElisabeth Harnik\, pianoDidi Kern\, drums
URL:http://elisabeth-harnik.at/event/elisabeth-harnik-80/
LOCATION:Opus Jazz Club BMC\, Budapest\, HU
END:VEVENT
BEGIN:VEVENT
DTSTART;TZID=UTC:20211112T193000
DTEND;TZID=UTC:20211112T193000
DTSTAMP:20260421T221115
CREATED:20230411T140836Z
LAST-MODIFIED:20230411T140836Z
UID:2664-1636745400-1636745400@elisabeth-harnik.at
SUMMARY:Kunsthaltestelle Streckhammerhaus
DESCRIPTION:Kunsthaltestelle Streckhammerhaus presents:PATRICK DUNST SOLO& PATRICK DUNST/ELISABETH HARNIK DUO\n(Worldpremiere!)Patrick Dunst\, reeds\nElisabeth Harnik\, piano
URL:http://elisabeth-harnik.at/event/kunsthaltestelle-streckhammerhaus-5/
LOCATION:Kunsthaltestelle Streckhammerhaus\, Frohnleiten\, Gamsgraben 4\, 8130 Frohnleiten\, Frohnleiten\, AT
END:VEVENT
BEGIN:VEVENT
DTSTART;TZID=UTC:20211112T193000
DTEND;TZID=UTC:20211112T193000
DTSTAMP:20260421T221115
CREATED:20230411T140822Z
LAST-MODIFIED:20230411T140822Z
UID:2663-1636745400-1636745400@elisabeth-harnik.at
SUMMARY:Elisabeth Harnik
DESCRIPTION:Kunsthaltestelle Streckhammerhaus presents:PATRICK DUNST SOLO& PATRICK DUNST/ELISABETH HARNIK DUO\n(Worldpremiere!)Patrick Dunst\, reeds\nElisabeth Harnik\, piano
URL:http://elisabeth-harnik.at/event/elisabeth-harnik-81/
LOCATION:Kunsthaltestelle Streckhammerhaus\, Frohnleiten\, Gamsgraben 4\, 8130 Frohnleiten\, Frohnleiten\, AT
END:VEVENT
BEGIN:VEVENT
DTSTART;TZID=UTC:20211106T150000
DTEND;TZID=UTC:20211106T150000
DTSTAMP:20260421T221115
CREATED:20230411T140836Z
LAST-MODIFIED:20230411T140836Z
UID:2665-1636210800-1636210800@elisabeth-harnik.at
SUMMARY:Elisabeth Harnik
DESCRIPTION:MUSIC UNLIMITED FESTIVAL 35Elisabeth Harnik & Fay Victor Duo (AT/US)Fay Victor\, vocalsElisabeth Harnik\, piano
URL:http://elisabeth-harnik.at/event/elisabeth-harnik-82/
LOCATION:Minoriten\, Wels\, AT
END:VEVENT
BEGIN:VEVENT
DTSTART;TZID=UTC:20211031T200000
DTEND;TZID=UTC:20211031T200000
DTSTAMP:20260421T221115
CREATED:20230411T140836Z
LAST-MODIFIED:20230411T140836Z
UID:2666-1635710400-1635710400@elisabeth-harnik.at
SUMMARY:Elisabeth Harnik
DESCRIPTION:TRIBUTE TO JAY CLAYTONAnnette Giesriegl – vocals\, electronicsElisabeth Harnik – pianoKUG Jazz Vocalists – Tanja Filipovic\, Lilly Kornhuber\, Martina Schlemmer\, Kerstin Türtscherand:Dena DeRose
URL:http://elisabeth-harnik.at/event/elisabeth-harnik-83/
LOCATION:tube´s Café\, Grieskai 74\, Graz\, Österreich\, AT
END:VEVENT
BEGIN:VEVENT
DTSTART;TZID=UTC:20211028T200000
DTEND;TZID=UTC:20211028T200000
DTSTAMP:20260421T221115
CREATED:20230411T140837Z
LAST-MODIFIED:20230411T140837Z
UID:2667-1635451200-1635451200@elisabeth-harnik.at
SUMMARY:Elisabeth Harnik
DESCRIPTION:KULTUM [ImCubus]POETIK DES KLANGSProgramm:Uros Rojko (*1954): Luna\, Acqua e ChiaraNikolaus Bras (*1949): lines UAGiacinto Scelsi (1905-1988): Ko-Tha I und II zwei Shiva TänzeELISABETH HARNIK (*1970): (in) hörweiteDetlef Heusinger (*1957): Sakura – SakuVito Zuraj (*1979): InterfretKlara Tomljanovic (Gitarre)Rezitation: Martin Brachvogel
URL:http://elisabeth-harnik.at/event/elisabeth-harnik-84/
LOCATION:KULTUM Kulturzentrum bei den Minoriten\, Graz\, AT
END:VEVENT
BEGIN:VEVENT
DTSTART;TZID=UTC:20211027T193000
DTEND;TZID=UTC:20211027T193000
DTSTAMP:20260421T221115
CREATED:20230411T140837Z
LAST-MODIFIED:20230411T140837Z
UID:2668-1635363000-1635363000@elisabeth-harnik.at
SUMMARY:Elisabeth Harnik
DESCRIPTION:Joëlle Léandre\, bass\, voiceElisabeth Harnik\, piano
URL:http://elisabeth-harnik.at/event/elisabeth-harnik-85/
LOCATION:Klaviersalon Merta\, Linz\, AT
END:VEVENT
BEGIN:VEVENT
DTSTART;TZID=UTC:20211026T193000
DTEND;TZID=UTC:20211026T193000
DTSTAMP:20260421T221115
CREATED:20230411T140851Z
LAST-MODIFIED:20230411T140851Z
UID:2669-1635276600-1635276600@elisabeth-harnik.at
SUMMARY:Elisabeth Harnik
DESCRIPTION:Tender MusicJoëlle Léandre\, bass\, voiceElisabeth Harnik\, piano
URL:http://elisabeth-harnik.at/event/elisabeth-harnik-86/
LOCATION:Jazzclub Kammerlichtspiele\, Klagenfurt\, AT
END:VEVENT
BEGIN:VEVENT
DTSTART;TZID=UTC:20211024T000000
DTEND;TZID=UTC:20211024T000000
DTSTAMP:20260421T221115
CREATED:20230411T140851Z
LAST-MODIFIED:20230411T140851Z
UID:2670-1635033600-1635033600@elisabeth-harnik.at
SUMMARY:Elisabeth Harnik
DESCRIPTION:Matinee ConcertJoëlle Léandre\, bass\, voiceElisabeth Harnik\, piano
URL:http://elisabeth-harnik.at/event/elisabeth-harnik-87/
LOCATION:Zoglau3 Raum für Musik\, Zoglau\, DE
END:VEVENT
BEGIN:VEVENT
DTSTART;TZID=UTC:20211011T200000
DTEND;TZID=UTC:20211011T200000
DTSTAMP:20260421T221115
CREATED:20230411T140851Z
LAST-MODIFIED:20230411T140851Z
UID:2671-1633982400-1633982400@elisabeth-harnik.at
SUMMARY:Elisabeth Harnik
DESCRIPTION:STIO – Styrian Improvisers Orchestra & Elisabeth Harnik (conduction\, composition)Modular Transmutation #2
URL:http://elisabeth-harnik.at/event/elisabeth-harnik-88/
LOCATION:Stockwerk\, Stockwerk\, Jakominiplatz 18\, Graz\, Steiermark\, AT
END:VEVENT
BEGIN:VEVENT
DTSTART;TZID=UTC:20211008T200000
DTEND;TZID=UTC:20211008T200000
DTSTAMP:20260421T221115
CREATED:20230411T140852Z
LAST-MODIFIED:20230411T140852Z
UID:2672-1633723200-1633723200@elisabeth-harnik.at
SUMMARY:Elisabeth Harnik
DESCRIPTION:Herbstzeitlose 2021Howard Curtis QuartetJohannes Enders\, saxophoneMarko Churnchetz\, pianoJoris Tepee\, bassHoward Curtis\, drumsSpecial guests:Samo Salamon\, guitarElisabeth Harnik\, piano
URL:http://elisabeth-harnik.at/event/elisabeth-harnik-89/
LOCATION:WIST\, Wist\, Moserhofgasse 34\, 8010 Graz\, Graz\, AT
END:VEVENT
BEGIN:VEVENT
DTSTART;TZID=UTC:20211001T200000
DTEND;TZID=UTC:20211002T000000
DTSTAMP:20260421T221115
CREATED:20230411T140852Z
LAST-MODIFIED:20230411T140852Z
UID:2673-1633118400-1633132800@elisabeth-harnik.at
SUMMARY:Elisabeth Harnik
DESCRIPTION:Catalytic Sound Festival ViennaFriday\, 01.10.2021\, 20:00:Lisa Hofmaninger / Judith SchwarzDaniel LercherMats Gustafsson / Didi KernSaturday\, 02.10.2021\, 20:00:Susanna Gartmayer / Christof KurzmannThomas Berghammer / Jakob Gnigler / Martin BrandlmayrElisabeth Harnik / Tanja Feichtmair / Nina PolascheggDJś sisitant & Falling (Mats Gustafsson/Christof Kurzmann) \nTanja Feichtmair\, alto saxophoneElisabeth Harnik\, pianoNina Polaschegg\, bass
URL:http://elisabeth-harnik.at/event/elisabeth-harnik-90/
LOCATION:Porgy & Bess\, Riemergasse 11\, Vienna\, Vienna\, AT
END:VEVENT
BEGIN:VEVENT
DTSTART;TZID=UTC:20210929T200000
DTEND;TZID=UTC:20211001T000000
DTSTAMP:20260421T221115
CREATED:20230411T140906Z
LAST-MODIFIED:20230411T140906Z
UID:2674-1632945600-1633046400@elisabeth-harnik.at
SUMMARY:Elisabeth Harnik
DESCRIPTION:Impronedjeljak / Impromonday festival IMeđunarodni festival slobodno improvizirane glazbe / International festival of free improvised musicArtists:Elisabeth Harnik\, Annette Giesriegl\, Tanja Feichtmair – (Austria)Mojca Zupančič\, Jure Boršič\, Tilen Kravos – (Slovenia)Andrea Massaria – (Italy)Razorblade Jr.\, Tena Novak\, Dina Puhovski\, Dani Bošnjak\, Zoran Šćekić\, Igor Pavlica\, Franjo Glušac\, Pavle Jovanović\, Miro Manojlović\, Sven Buić\, Bruno Vorberger\, Boris Janje\, Ivan Marincel\, Neven Jurić\, Damir P. Kafka\, Nikolina Komljenović – (Croatia) \nSeptember 30th:Jure Boršič\, saxophoneIgor Pavlica\, trumpetElisabeth Harnik\, pianoMiro Manojlović\, vibraphone
URL:http://elisabeth-harnik.at/event/elisabeth-harnik-91/
LOCATION:Klub Močvara\, Zagreb\, HR
END:VEVENT
BEGIN:VEVENT
DTSTART;TZID=UTC:20210925T200000
DTEND;TZID=UTC:20210925T200000
DTSTAMP:20260421T221115
CREATED:20230411T140906Z
LAST-MODIFIED:20230411T140906Z
UID:2675-1632600000-1632600000@elisabeth-harnik.at
SUMMARY:Elisabeth Harnik
DESCRIPTION:BLONK/HARNIK DUOElisabeth Harnik\, pianoJaap Blonk\, voice\, electronics
URL:http://elisabeth-harnik.at/event/elisabeth-harnik-92/
LOCATION:Jazzatelier Ulrichsberg\, Ulrichs­berg\, Bader­gasse 2\, Ulrichs­berg\, Ober­öster­reich\, AT
END:VEVENT
BEGIN:VEVENT
DTSTART;TZID=UTC:20210910T200000
DTEND;TZID=UTC:20210910T200000
DTSTAMP:20260421T221115
CREATED:20230411T140906Z
LAST-MODIFIED:20230411T140906Z
UID:2676-1631304000-1631304000@elisabeth-harnik.at
SUMMARY:Elisabeth Harnik
DESCRIPTION:PRISM – KONZERT IIPARALLEL TEXTURESEin multidisziplinäres Konzertformat im Spannungsfeld Musik- Elektronik-Objekte-Performance-neue MedienEnsemble AIRBONE EXTENDED spielt (neue) Werke von Nava Hemyari\, Simon Løffler\, Thomas Wally\, Hannes Kerschbaumer\, Uroš Rojko\, ELISABETH HARNIK and Mehmet Ali Uzunselvi.Elena Gabbrielli\, FlötenSonja Leipold\, CembaloCaroline Mayrhofer\, Blockflöten/PaetzoldTina Žerdin\, HarfeAlisa Kobzar\, KlangregieELISABETH HARNIK: ‘Sound/Out!’ für Harfe und Cembalo (2019)  ÖEAReservierung unter airborne.extended@gmx.at
URL:http://elisabeth-harnik.at/event/elisabeth-harnik-93/
LOCATION:Raum Salmgasse\, Vienna\, AT
END:VEVENT
BEGIN:VEVENT
DTSTART;TZID=UTC:20210904T203000
DTEND;TZID=UTC:20210904T203000
DTSTAMP:20260421T221115
CREATED:20230411T140907Z
LAST-MODIFIED:20230411T140907Z
UID:2677-1630787400-1630787400@elisabeth-harnik.at
SUMMARY:Elisabeth Harnik
DESCRIPTION:Klare/Harnik/de Joode/Vatcher (D/AUT/NL)Jan Klare – reedsElisabeth Harnik – pianoWilbert de Joode – bassMichael Vatcher – drums
URL:http://elisabeth-harnik.at/event/elisabeth-harnik-94/
LOCATION:Manufaktur\, Schorndorf\, DE
END:VEVENT
BEGIN:VEVENT
DTSTART;TZID=UTC:20210903T190000
DTEND;TZID=UTC:20210903T190000
DTSTAMP:20260421T221115
CREATED:20230411T140907Z
LAST-MODIFIED:20230411T140907Z
UID:2678-1630695600-1630695600@elisabeth-harnik.at
SUMMARY:Elisabeth Harnik
DESCRIPTION:ARTACTS FESTIVAL ’21Klare/Harnik/de Joode/Vatcher (D/AUT/NL)Jan Klare – reedsElisabeth Harnik – pianoWilbert de Joode – bassMichael Vatcher – drums
URL:http://elisabeth-harnik.at/event/elisabeth-harnik-95/
LOCATION:Musik Kultur St.Johann\, Ledergasse 5\, 6380 St. Johann\, St. Johann in Tirol\, AT
END:VEVENT
BEGIN:VEVENT
DTSTART;TZID=UTC:20210827T210000
DTEND;TZID=UTC:20210827T210000
DTSTAMP:20260421T221115
CREATED:20230411T140921Z
LAST-MODIFIED:20230411T140921Z
UID:2679-1630098000-1630098000@elisabeth-harnik.at
SUMMARY:Elisabeth Harnik
DESCRIPTION:ALPENGLOW 7 – STYRIA meets SLOVENIA 26. & 27.08.2021Elisabeth Harnik\, pianoMatjaz Bajc\, bassZlatko Kaucic\, drums
URL:http://elisabeth-harnik.at/event/elisabeth-harnik-96/
LOCATION:Cankarjev dom\, Ljubljana\, SI
END:VEVENT
BEGIN:VEVENT
DTSTART;TZID=UTC:20210825T200000
DTEND;TZID=UTC:20210825T200000
DTSTAMP:20260421T221115
CREATED:20230411T140922Z
LAST-MODIFIED:20230411T140922Z
UID:2680-1629921600-1629921600@elisabeth-harnik.at
SUMMARY:Elisabeth Harnik
DESCRIPTION:Klare/Harnik/de Joode/Vatcher (D/AUT/NL)Jan Klare – reedsElisabeth Harnik – pianoWilbert de Joode – bassMichael Vatcher – drums
URL:http://elisabeth-harnik.at/event/elisabeth-harnik-97/
LOCATION:Kulturhofkeller Villach\, Villach\, AT
END:VEVENT
BEGIN:VEVENT
DTSTART;TZID=UTC:20210821T204500
DTEND;TZID=UTC:20210821T204500
DTSTAMP:20260421T221115
CREATED:20230411T140922Z
LAST-MODIFIED:20230411T140922Z
UID:2681-1629578700-1629578700@elisabeth-harnik.at
SUMMARY:Elisabeth Harnik
DESCRIPTION:13. V:NM FESTIVAL 18.-21.08.2021Elisabeth Harnik\, pianoMatjaz Bajc\, bassZlatko Kaucic\, drums
URL:http://elisabeth-harnik.at/event/elisabeth-harnik-98/
LOCATION:Volkshaus/Maria Cäsar Saal\, Graz\, AT
END:VEVENT
BEGIN:VEVENT
DTSTART;TZID=UTC:20210820T200000
DTEND;TZID=UTC:20210820T200000
DTSTAMP:20260421T221115
CREATED:20230411T140922Z
LAST-MODIFIED:20230411T140922Z
UID:2682-1629489600-1629489600@elisabeth-harnik.at
SUMMARY:Elisabeth Harnik
DESCRIPTION:OPEN MUSIC presents:SAITEN-TASTEN21 Innenraum-Studien für das andere Klavier (2017–2020)Mathilde Hoursiangou – pianoLuca Lavuri – pianoSylvia Kimiko Krutz – pianoWorks by Furrer\, Harnik\, Lang\, Klement\, Wozny a.o.Elisabeth Harnik: ‘of all stars the most beautiful’ for piano (2018)Sylvia Kimiko Krutz – piano
URL:http://elisabeth-harnik.at/event/elisabeth-harnik-99/
LOCATION:Theater im Palais (KUG)\, Graz\, AT
END:VEVENT
BEGIN:VEVENT
DTSTART;TZID=UTC:20210813T190000
DTEND;TZID=UTC:20210813T190000
DTSTAMP:20260421T221115
CREATED:20230411T140923Z
LAST-MODIFIED:20230411T140923Z
UID:2683-1628881200-1628881200@elisabeth-harnik.at
SUMMARY:Elisabeth Harnik
DESCRIPTION:KONFRONTATIONEN ’21ELISABETH HARNIK DOUBLE TRIOElisabeth Harnik :: pianoMats Gustafsson :: reeds\, electronicsMikołaj Trzaska :: reedsMartin Brandlmayr :: drums\, percussionDidi Kern :: drums\, percussion
URL:http://elisabeth-harnik.at/event/elisabeth-harnik-100/
LOCATION:Jazzgalerie Nickelsdorf\, Nickelsdorf\, AT
END:VEVENT
BEGIN:VEVENT
DTSTART;TZID=UTC:20210723T193000
DTEND;TZID=UTC:20210723T193000
DTSTAMP:20260421T221115
CREATED:20230411T140936Z
LAST-MODIFIED:20230411T140936Z
UID:2684-1627068600-1627068600@elisabeth-harnik.at
SUMMARY:Elisabeth Harnik
DESCRIPTION:Jazzclub „FUCHS“ e.V. and BIG e.V. Chemnitz present:PLASMIC QUARTET (A)Agnes Heginger\, vocalsElisabeth Harnik\, pianoUli Winter\, celloFredi Pröll\, drums and percussion
URL:http://elisabeth-harnik.at/event/elisabeth-harnik-101/
LOCATION:Das TIETZ Neue Sächsische Galerie\, Chemnitz\, DE
END:VEVENT
BEGIN:VEVENT
DTSTART;TZID=UTC:20210710T190000
DTEND;TZID=UTC:20210710T190000
DTSTAMP:20260421T221115
CREATED:20230411T140936Z
LAST-MODIFIED:20230411T140936Z
UID:2685-1625943600-1625943600@elisabeth-harnik.at
SUMMARY:Elisabeth Harnik
DESCRIPTION:Kunsthaltestelle Streckhammerhaus presentsCHICKEN EXTENDED CONCERT 2.0Revival of the legendary chicken concerts of the Klammer&Gründler Duo.A living chicken extended the duo to a trio for two concerts in Graz 1988 (Jazz M59 / gamsbArt) and Klagenfurt 1989 (Unikum).\nThese were the first performances of chicken-driven sampling-based music on stage.Twenty-two years later there is now a new edition in an extended ensemble with Elisabeth Harnik and the 6 chickens of the Kunsthaltestelle Steckhammerhaus.\nGrains are scattered on ground sensors in the chicken enclosure\, the chickens peck at them\, triggering sounds and short sequences.Not random\, but unpredictable!Josef Klammer: electric percussion\, toys\, sensorsSeppo Gründler: guitar\, electronics\, sensorsELISABETH HARNIK: electric piano6 chickens: sounds and short sequences
URL:http://elisabeth-harnik.at/event/elisabeth-harnik-102/
LOCATION:Kunsthaltestelle Streckhammerhaus (Außengelände)\, Frohnleiten\, AT
END:VEVENT
BEGIN:VEVENT
DTSTART;TZID=UTC:20210710T190000
DTEND;TZID=UTC:20210710T190000
DTSTAMP:20260421T221115
CREATED:20230411T140936Z
LAST-MODIFIED:20230411T140936Z
UID:2686-1625943600-1625943600@elisabeth-harnik.at
SUMMARY:Kunsthaltestelle Streckhammerhaus
DESCRIPTION:CHICKEN EXTENDED OUTDOOR-KONZERT 2.0Die Kunsthaltestelle Streckhammerhaus präsentiert die Wiederaufnahme der legendären Hühnerkonzerte des KLAMMER&GRÜNDLER DUOS. Ein lebendes Huhn erweiterte das Duo zum Trio für zwei Konzerte in Graz 1988 (Jazz M59 / gamsbArt) und Klagenfurt 1989 (Unikum). Das waren die ersten Auftritte von hühnergesteuerter Sampling-basierter Musik auf der Bühne.Zweiundzwanzig Jahre später gibt es nun eine Neuauflage im erweiterten Ensemble mit ELISABETH HARNIK und den 6 HÜHNERN der Kunsthaltestelle Steckhammerhaus.Auf Bodensensoren im Hühnergehege werden Körner gestreut\, die Hühner picken danach und lösen so Klänge und Kurzsequenzen aus.Nicht zufällig\, sondern unvorhersehbar!Josef Klammer: E-Perkussion\, Toys\, SensorikSeppo Gründler: Gitarre\, Elektronik\, SensorikELISABETH HARNIK: E-Piano6 Hühner: Klänge und KurzsequenzenUm Voranmeldung unter 0680 21 33 086 wird gebeten!Eintritt: 10 €Bei Schlechtwetter findet die Veranstaltung am 11. Juli um 19.00 statt!
URL:http://elisabeth-harnik.at/event/kunsthaltestelle-streckhammerhaus-6/
LOCATION:Kunsthaltestelle Streckhammerhaus (Außengelände)\, Frohnleiten\, AT
END:VEVENT
BEGIN:VEVENT
DTSTART;TZID=UTC:20210706T180000
DTEND;TZID=UTC:20210706T180000
DTSTAMP:20260421T221115
CREATED:20230411T140937Z
LAST-MODIFIED:20230411T140937Z
UID:2687-1625594400-1625594400@elisabeth-harnik.at
SUMMARY:Elisabeth Harnik
DESCRIPTION:Styriarte presents:TROMBONES ON FIREWorks by Georg Friedrich Händel\, ELISABETH HARNIK\, Sergej Prokofjew and Gustav Holst.Elisabeth Harnik: ‘raumwandeln’ for trombone ensemble (2021) PREMIERECommissioned by Styriarte 2021Ensemble TROMBONE UNIT HANNOVER
URL:http://elisabeth-harnik.at/event/elisabeth-harnik-103/
LOCATION:Schlossbergbühne\, Graz\, AT
END:VEVENT
END:VCALENDAR