BEGIN:VCALENDAR
VERSION:2.0
PRODID:-//Elisabeth Harnik - ECPv6.15.17.1//NONSGML v1.0//EN
CALSCALE:GREGORIAN
METHOD:PUBLISH
X-ORIGINAL-URL:http://elisabeth-harnik.at
X-WR-CALDESC:Events for Elisabeth Harnik
REFRESH-INTERVAL;VALUE=DURATION:PT1H
X-Robots-Tag:noindex
X-PUBLISHED-TTL:PT1H
BEGIN:VTIMEZONE
TZID:UTC
BEGIN:STANDARD
TZOFFSETFROM:+0000
TZOFFSETTO:+0000
TZNAME:UTC
DTSTART:20210101T000000
END:STANDARD
END:VTIMEZONE
BEGIN:VEVENT
DTSTART;TZID=UTC:20221109T190000
DTEND;TZID=UTC:20221109T190000
DTSTAMP:20260421T152447
CREATED:20230411T140454Z
LAST-MODIFIED:20230411T140454Z
UID:2598-1668020400-1668020400@elisabeth-harnik.at
SUMMARY:Elisabeth Harnik
DESCRIPTION:WIEN MODERN5 Jahre FraufeldMusic by Viola Falb\, Elisabeth Harnik\, Gobi Drab\, Veronika Mayer\, Ursula Reicher\, Thomas Gieferl\,  Judith Unterpertinger\, Lale Rodgarkia-Dara\, Viola Hammer\, Yvonne Zehner\, Sophie Hassfurther\, Aleksandra Bajde\, Isabella Forciniti\, Tiziana Bertoncini\, Caroline Mayrhofer\, Helene Glüxam\, Golnar Shahyar and Rojin SharafiViola Falb/Elisabeth Harnik: Floating Perspective II (2022) PREMIEREViola Falb – alto saxophoneElisabeth Harnik – piano
URL:http://elisabeth-harnik.at/event/elisabeth-harnik-19/
LOCATION:Konzerthaus\, Vienna\, AT
END:VEVENT
BEGIN:VEVENT
DTSTART;TZID=UTC:20221108T200000
DTEND;TZID=UTC:20221108T200000
DTSTAMP:20260421T152447
CREATED:20230411T140508Z
LAST-MODIFIED:20230411T140508Z
UID:2599-1667937600-1667937600@elisabeth-harnik.at
SUMMARY:Elisabeth Harnik
DESCRIPTION:Rempis/Harnik/Zerang Trio (US/AT)Dave Rempis – reedsElisabeth Harnik – pianoMichael Zerang – drums
URL:http://elisabeth-harnik.at/event/elisabeth-harnik-20/
LOCATION:KM28\, Berlin\, DE
END:VEVENT
BEGIN:VEVENT
DTSTART;TZID=UTC:20221106T200000
DTEND;TZID=UTC:20221106T200000
DTSTAMP:20260421T152447
CREATED:20230411T140509Z
LAST-MODIFIED:20230411T140509Z
UID:2601-1667764800-1667764800@elisabeth-harnik.at
SUMMARY:Elisabeth Harnik
DESCRIPTION:Moers Festival Residency Series | Improviser in residence 2022: Tomeka Reid (USA)Rempis/Harnik/Zerang Trio (US/AT)Dave Rempis – reedsElisabeth Harnik – pianoMichael Zerang – drums
URL:http://elisabeth-harnik.at/event/elisabeth-harnik-22/
LOCATION:Improviser Residenz\, Moers\, DE
END:VEVENT
BEGIN:VEVENT
DTSTART;TZID=UTC:20221106T200000
DTEND;TZID=UTC:20221106T200000
DTSTAMP:20260421T152447
CREATED:20230411T140509Z
LAST-MODIFIED:20230411T140509Z
UID:2600-1667764800-1667764800@elisabeth-harnik.at
SUMMARY:Elisabeth Harnik
DESCRIPTION:Dialograum Kreuzung an St. Helena prensentsRempis/Harnik/Zerang Trio (US/AT)Dave Rempis – reedsElisabeth Harnik – pianoMichael Zerang – drums
URL:http://elisabeth-harnik.at/event/elisabeth-harnik-21/
LOCATION:KREUZUNG AN ST. HELENA\, Bonn\, DE
END:VEVENT
BEGIN:VEVENT
DTSTART;TZID=UTC:20221105T203000
DTEND;TZID=UTC:20221105T203000
DTSTAMP:20260421T152447
CREATED:20230411T140509Z
LAST-MODIFIED:20230411T140509Z
UID:2602-1667680200-1667680200@elisabeth-harnik.at
SUMMARY:Elisabeth Harnik
DESCRIPTION:Rempis/Harnik/Zerang Trio (US/AT)Dave Rempis – reedsElisabeth Harnik – pianoMichael Zerang – drums
URL:http://elisabeth-harnik.at/event/elisabeth-harnik-23/
LOCATION:Manufaktur\, Schorndorf\, DE
END:VEVENT
BEGIN:VEVENT
DTSTART;TZID=UTC:20221102T200000
DTEND;TZID=UTC:20221104T000000
DTSTAMP:20260421T152447
CREATED:20230411T140510Z
LAST-MODIFIED:20230411T140510Z
UID:2603-1667419200-1667520000@elisabeth-harnik.at
SUMMARY:Elisabeth Harnik
DESCRIPTION:VISITATIONS FESTIVALRempis/Harnik/Zerang Trio (US/AT)Dave Rempis – reedsElisabeth Harnik – pianoMichael Zerang – drumsPlus small groups with Visitations Festival artists Els Vandeweyer (BE\, vibraphone)\, Jonas Cambien (BE\, piano\, soprano sax\, keyboards)\, Ikue Mori (US/JP\, electronics)\, Peter Orins (FR\, drums\, percussion)\, Christian Pruvost (FR\, trumpet)\, Natsuki Tamura (JP\,trumpet)
URL:http://elisabeth-harnik.at/event/elisabeth-harnik-24/
LOCATION:De Studio\, Antwerp\, BE
END:VEVENT
BEGIN:VEVENT
DTSTART;TZID=UTC:20221101T200000
DTEND;TZID=UTC:20221101T200000
DTSTAMP:20260421T152447
CREATED:20230411T140536Z
LAST-MODIFIED:20230411T140536Z
UID:2604-1667332800-1667332800@elisabeth-harnik.at
SUMMARY:Elisabeth Harnik
DESCRIPTION:LIVE IM SPEICHERRempis/Harnik/Zerang Trio (US/AT)Dave Rempis – reedsElisabeth Harnik – pianoMichael Zerang – drums
URL:http://elisabeth-harnik.at/event/elisabeth-harnik-25/
LOCATION:Kulturspeicher\, Leer\, DE
END:VEVENT
BEGIN:VEVENT
DTSTART;TZID=UTC:20221026T190000
DTEND;TZID=UTC:20221026T190000
DTSTAMP:20260421T152447
CREATED:20230411T140536Z
LAST-MODIFIED:20230411T140536Z
UID:2605-1666810800-1666810800@elisabeth-harnik.at
SUMMARY:Elisabeth Harnik
DESCRIPTION:Jaunās mūzikas festivāls ARĒNA presents:Helēna SOROKINA (contralto) & ATOMOS Saxophone QuartetWorks by Feliz Anne Reyes MACAHIS\, Elisabeth HARNIK\, Tanja BRÜGGEMANN\, Gundegas ŠMITES\, Krista AUZNIEKA\, Edgara RAGINSKA\, Andra DZENĪŠA\, Līvas BLŪMAS\, Philip GLASS\, Andrievs ALKSNIS\, Platons BURAVICKIS\, Oskara HERLIŅA\, Madaras PĒTERSONES and Raivja MISJUNA.Elisabeth Harnik: ‘Solo for Gertrude’\, Text after Gertrude Stein (2001/2011)Helēna SOROKINA\, contralto
URL:http://elisabeth-harnik.at/event/elisabeth-harnik-26/
LOCATION:Rīgas Reformātu baznīcā\, Riga\, LV
END:VEVENT
BEGIN:VEVENT
DTSTART;TZID=UTC:20221026T163000
DTEND;TZID=UTC:20221026T163000
DTSTAMP:20260421T152447
CREATED:20230411T140537Z
LAST-MODIFIED:20230411T140537Z
UID:2607-1666801800-1666801800@elisabeth-harnik.at
SUMMARY:Elisabeth Harnik
DESCRIPTION:Thomas Lehn – analogue synthesizer SOLOElisabeth Harnik/Thomas Lehn DUO (D/AT)Elisabeth Harnik – pianoThomas Lehn – analogue synth
URL:http://elisabeth-harnik.at/event/elisabeth-harnik-27/
LOCATION:Kunsthaltestelle Streckhammerhaus\, Frohnleiten\, Gamsgraben 4\, 8130 Frohnleiten\, Frohnleiten\, AT
END:VEVENT
BEGIN:VEVENT
DTSTART;TZID=UTC:20221026T163000
DTEND;TZID=UTC:20221026T163000
DTSTAMP:20260421T152447
CREATED:20230411T140536Z
LAST-MODIFIED:20230411T140536Z
UID:2606-1666801800-1666801800@elisabeth-harnik.at
SUMMARY:Kunsthaltestelle Streckhammerhaus
DESCRIPTION:Thomas Lehn – analogue synthesizer SOLOElisabeth Harnik/Thomas Lehn DUO (D/AT)Elisabeth Harnik – pianoThomas Lehn – analogue synth
URL:http://elisabeth-harnik.at/event/kunsthaltestelle-streckhammerhaus-2/
LOCATION:Kunsthaltestelle Streckhammerhaus\, Frohnleiten\, Gamsgraben 4\, 8130 Frohnleiten\, Frohnleiten\, AT
END:VEVENT
BEGIN:VEVENT
DTSTART;TZID=UTC:20221022T200000
DTEND;TZID=UTC:20221022T200000
DTSTAMP:20260421T152447
CREATED:20230411T140537Z
LAST-MODIFIED:20230411T140537Z
UID:2608-1666468800-1666468800@elisabeth-harnik.at
SUMMARY:Elisabeth Harnik
DESCRIPTION:DAUGHTER OF WATERSMusic\, Dance and TagtoolMaria Gstättner – bassoonElisabeth Harnik – pianoBea von Schrader – dance\nDieter Puntigam –Tagtool
URL:http://elisabeth-harnik.at/event/elisabeth-harnik-28/
LOCATION:Urhof20\, Grünbach am Schneeberg\, AT
END:VEVENT
BEGIN:VEVENT
DTSTART;TZID=UTC:20221021T190000
DTEND;TZID=UTC:20221021T190000
DTSTAMP:20260421T152447
CREATED:20230411T140551Z
LAST-MODIFIED:20230411T140551Z
UID:2609-1666378800-1666378800@elisabeth-harnik.at
SUMMARY:Elisabeth Harnik
DESCRIPTION:Ad Libitum Festival 2022Harri Sjöström QuartetHarri Sjöström – soprano saxophone \, sopranino saxophoneElisabeth Harnik – pianoWilbert De Jode – bassDag Magnus Narvesen – percussion
URL:http://elisabeth-harnik.at/event/elisabeth-harnik-29/
LOCATION:LABORATORIUM CSW\, Warsaw\, PL
END:VEVENT
BEGIN:VEVENT
DTSTART;TZID=UTC:20221008T220000
DTEND;TZID=UTC:20221008T220000
DTSTAMP:20260421T152447
CREATED:20230411T140551Z
LAST-MODIFIED:20230411T140551Z
UID:2610-1665266400-1665266400@elisabeth-harnik.at
SUMMARY:Elisabeth Harnik
DESCRIPTION:musikprotokoll im steirischen herbstCANTANDO ADMONTWerke von Adriana Hölszky\, Younghi Pagh-Paan\, Charlotte Seither und ELISABETH HARNIK.Elisabeth Harnik: ‘if I am not being killed…’für tiefe Männerstimme\, Kontrabass und Zuspiel (2022)\, Text: Iryna ShuvalovaURAUFFÜHRUNGGerd Kenda\, BassJuan Pablo Trad Hasbun\, KontrabassLeitung Cantando Admont: Cordula BürgiLeitung der IGNM Sektion Steiermark\, Kuratorin: Elfriede Reissig
URL:http://elisabeth-harnik.at/event/elisabeth-harnik-30/
LOCATION:Helmut List Halle\, Graz\, AT
END:VEVENT
BEGIN:VEVENT
DTSTART;TZID=UTC:20221006T193000
DTEND;TZID=UTC:20221006T193000
DTSTAMP:20260421T152447
CREATED:20230411T140551Z
LAST-MODIFIED:20230411T140551Z
UID:2611-1665084600-1665084600@elisabeth-harnik.at
SUMMARY:Elisabeth Harnik
DESCRIPTION:musikprotokoll im steirischen herbstStyrian Improvisers Orchestra (STIO)KInonKI: Seppo Gründler und Gernot TutnerIMPROV-ENTITY: Annette Giesriegl und Elisabeth HarnikGastmusiker: John EckhardtStyrian Improvisers Orchestra
URL:http://elisabeth-harnik.at/event/elisabeth-harnik-31/
LOCATION:Dom im Berg\, Graz\, AT
END:VEVENT
BEGIN:VEVENT
DTSTART;TZID=UTC:20221002T230000
DTEND;TZID=UTC:20221002T230000
DTSTAMP:20260421T152447
CREATED:20230411T140552Z
LAST-MODIFIED:20230411T140552Z
UID:2612-1664751600-1664751600@elisabeth-harnik.at
SUMMARY:Elisabeth Harnik
DESCRIPTION:Ö1 KUNSTSONNTAG: RADIOKUNST – KUNSTRADIOKommunikation zwischen den Weltenbefinde mich nun bei den fischenEin Hörstück von Gertrude Grossegger und Elisabeth HarnikGertrude Grossegger: Idee\, Text\, StimmeElisabeth Harnik: Komposition\, Klavier\, Waterphone\, ObjekteTongestaltung: Norbert StadlhoferProduktion: ORF Kunstradio 2022Übertragung in Dolby Digital 5.1 Surround Sound
URL:http://elisabeth-harnik.at/event/elisabeth-harnik-32/
LOCATION:Ö1 Kunstsonntag\, Vienna\, AT
END:VEVENT
BEGIN:VEVENT
DTSTART;TZID=UTC:20220929T100000
DTEND;TZID=UTC:20220929T100000
DTSTAMP:20260421T152447
CREATED:20230411T140552Z
LAST-MODIFIED:20230411T140552Z
UID:2613-1664445600-1664445600@elisabeth-harnik.at
SUMMARY:Elisabeth Harnik
DESCRIPTION:INTERNATIONALES JAZZFESTIVAL LEIBNITZKinderkonzert 10.00 und 15.00Jazz for Kids – Hupe\, Klimper und Tschin BummAlfred Lang\, TrompeteElisabeth Harnik\, KlavierJosef Klammer\, Schlagzeug und Elektronik
URL:http://elisabeth-harnik.at/event/elisabeth-harnik-33/
LOCATION:Hugo Wolf Saal\, Leibnitz\, AT
END:VEVENT
BEGIN:VEVENT
DTSTART;TZID=UTC:20220923T190000
DTEND;TZID=UTC:20220923T190000
DTSTAMP:20260421T152447
CREATED:20230411T140606Z
LAST-MODIFIED:20230411T140606Z
UID:2614-1663959600-1663959600@elisabeth-harnik.at
SUMMARY:Elisabeth Harnik
DESCRIPTION:Duo Sorokina/GabbrielliHelēna Sorokina\, AltElena Gabbrielli\, FlöteWerke von Līva Blūma\, Sarah Grace Grace\, Gundega Šmite\, Dimitris Maronidis\, Rebecca Saunders\, Salvatore Sciarrino\, ELISABETH HARNIK und Tanja Brueggemann.Elisabeth Harnik:‘A LEAVE’für Frauenstimme und Flöte (2012)
URL:http://elisabeth-harnik.at/event/elisabeth-harnik-34/
LOCATION:Leechkirche\, Graz\, AT
END:VEVENT
BEGIN:VEVENT
DTSTART;TZID=UTC:20220916T180000
DTEND;TZID=UTC:20220917T000000
DTSTAMP:20260421T152447
CREATED:20230411T140606Z
LAST-MODIFIED:20230411T140606Z
UID:2615-1663351200-1663372800@elisabeth-harnik.at
SUMMARY:Elisabeth Harnik
DESCRIPTION:UKRAINE MEETS STYRIA IN GRAZ16. September:18.00 OPENING18:30 UST 01Mara Probst – viola\, vocals; Alexandra Malatskovskaya – piano\, vocals; Reinhard Ziegerhofer – double bass19:15 UST 02Maxim Kolomiiets – oboe\, electronics; Denovaire – esraj\, electronics; Maria Flavia Cerrato – piano20:00 UST 03Nadiia Golubtsova – vocals; Robert Lepenik – guitar; Margarete Maierhofer-Lischka – double bass; Gernot Tutner – electronics20:45 UST 04Alfred Lang – trumpetMykola Ryshkov – saxophonELISAETH HARNIK – pianoJosef Klammer – drums\, electronics21:30 UST 05Ann Kozachenko – vocals; Yvonne Hofmeister – vocals; Maksym Trianov – guitar\, electronics; Franz Schmuck – percussion22:15 UST 06Dmytro Radzetskyi – guitar\, midiguitar\, electronics; Andreas Weixler – guitar; Armin Pokorn – guitar; Anton Begmenko – drums17. September:19:00 UST 07Christoph Wundrak – euphonium\, trumpet; brainhack_musicbox; Stanislav Bobrytsky – modular synthesizer; Hendrik Sande – piano19:45 UST 08Agata Vilchyk – vocals\, saxophon\, drums; Alyona Pynzenyk – violin; Richie Herbst – electronics; Se-Lien Chuang – vocals\, piano20:30 UST 09Kerstin Türtscher – vocals; Seppo Gründler – guitar\, electronics; Nick Acorne – piano\, electronics; Kristina Kirik – double bass\, electronics21:15 UST 10Annette Giesriegl – vocals; Mia Zabelka – violin\, electronics; Stas Kononov – guitar; Patrick Wurzwallner – drums21:45 The Big UST UNITED ORCHESTRA
URL:http://elisabeth-harnik.at/event/elisabeth-harnik-35/
LOCATION:Auditorium / Museumsviertel\, Graz\, AT
END:VEVENT
BEGIN:VEVENT
DTSTART;TZID=UTC:20220914T190000
DTEND;TZID=UTC:20220914T190000
DTSTAMP:20260421T152447
CREATED:20230411T140606Z
LAST-MODIFIED:20230411T140606Z
UID:2616-1663182000-1663182000@elisabeth-harnik.at
SUMMARY:Elisabeth Harnik
DESCRIPTION:Duo Sorokina/GabbrielliHelēna Sorokina\, AltElena Gabbrielli\, FlöteWerke von Līva Blūma\, Sarah Grace Grace\, Gundega Šmite\, Dimitris Maronidis\, Rebecca Saunders\, Salvatore Sciarrino\, ELISABETH HARNIK und Tanja Brueggemann.Elisabeth Harnik:‘A LEAVE’für Frauenstimme und Flöte (2012)
URL:http://elisabeth-harnik.at/event/elisabeth-harnik-36/
LOCATION:Pfarrkirche Nestelbach\, Nestelbach bei Graz\, AT
END:VEVENT
BEGIN:VEVENT
DTSTART;TZID=UTC:20220909T200000
DTEND;TZID=UTC:20220909T200000
DTSTAMP:20260421T152447
CREATED:20230411T140607Z
LAST-MODIFIED:20230411T140607Z
UID:2617-1662753600-1662753600@elisabeth-harnik.at
SUMMARY:Elisabeth Harnik
DESCRIPTION:Schöne Töne im Hügelland 2022 – Internationale ChorwocheÖffentliches gemeinsames AbschlusskonzertPräsentiert wird traditionelle\, klassische und neue Vokalmusik aus der Steiermark und SerbienSosamma Chor (Graz\, Leitung: Vesna Petković)\, Grācas latviešu jauktais koris (Graz\, Leitung: Ilze Kroja-Holzer)\, Kammerchor Niš (Serbien\, Leitung: Ivana Milošević)Elisabeth Harnik: ‘klangwandeln’ (Text: Ernst Jandl)
URL:http://elisabeth-harnik.at/event/elisabeth-harnik-37/
LOCATION:Mehrzweckhalle Nestelbach\, Nestelbach bei Graz\, AT
END:VEVENT
BEGIN:VEVENT
DTSTART;TZID=UTC:20220909T180000
DTEND;TZID=UTC:20220911T000000
DTSTAMP:20260421T152447
CREATED:20230411T140607Z
LAST-MODIFIED:20230411T140607Z
UID:2618-1662746400-1662854400@elisabeth-harnik.at
SUMMARY:Elisabeth Harnik
DESCRIPTION:Resonanz im Waldviertel (Residency)Madame Resonanz lädt in den MusiksalonArtists in Residence:Andrea Nagl\, TanzElisabeth Harnik\, KlavierNachmittags: Gemeinsame Sessions mit ortsansässigen Künstler*innen aller Sparten
URL:http://elisabeth-harnik.at/event/elisabeth-harnik-38/
LOCATION:Mayerhof\, Waldhausen (Waldviertel)\, AT
END:VEVENT
BEGIN:VEVENT
DTSTART;TZID=UTC:20220826T210000
DTEND;TZID=UTC:20220826T210000
DTSTAMP:20260421T152447
CREATED:20230411T140621Z
LAST-MODIFIED:20230411T140621Z
UID:2619-1661547600-1661547600@elisabeth-harnik.at
SUMMARY:Elisabeth Harnik
DESCRIPTION:Audioart Festival 1321.00PLASMIC QUARTETAgnes Heginger – vocalsElisabeth Harnik – pianoUlli Winter – celloFredi Pröll – drums22:30BRANDLMAYR / KURZMANN DUOMartin Brandlmayr – drums/electronicsChristof Kurzmann – laptop\, electronics
URL:http://elisabeth-harnik.at/event/elisabeth-harnik-39/
LOCATION:DC Karlo Rojc\, Pula\, HR
END:VEVENT
BEGIN:VEVENT
DTSTART;TZID=UTC:20220811T200000
DTEND;TZID=UTC:20220825T000000
DTSTAMP:20260421T152447
CREATED:20230411T140622Z
LAST-MODIFIED:20230411T140622Z
UID:2620-1660248000-1661385600@elisabeth-harnik.at
SUMMARY:Elisabeth Harnik
DESCRIPTION:DAS ERDBEBEN IN CHILINEUE VOLKSOPERURAUFFÜHRUNG11. August 2022\, 20 Uhr PremiereWeitere Aufführungen:12.\, 13.\,14. / 18.\, 19.\, 20. / 24.\, 25. August jeweils 20:00Uhr“Mit „Das Erdbeben in Chili“ erkundet der Griessner Stadl\, wie eine Neue Volksoper klingen kann. Die beauftragte Komponistin Elisabeth Harnik folgt hierbei unserem konzeptionellen Ansatz und verbindet Zeitgenössisches mit Traditionellem\, Experimentelles mit Konventionellem\, Kalkuliertes mit Unvorhergesehenem. Ihre Musik schafft eine faszinierende Klanglandschaft\, die einnimmt\, mitreißt und gleichzeitig irritiert. Interpretiert u.a. von Musiker*innen des mehrfach ausgezeichneten Schallfeld Ensembles aus Graz\, gesungen und verkörpert von jungen Sänger*innen / Darsteller*innen auch aus der Region\, entsteht ein spannendes musiktheatralisches Format\, das versucht\, der verstörenden Vorlage einen szenischen und akustischen Raum zu geben.Komposition: Elisabeth HarnikRegie\, Libretto\, Bühne: Martin KreidtGesangssolist*innen: Clara Sabin\, Herbert Schwaiger\, Justina Vaitkutė\, Stefan JovanovicMusiker*innen/Chor: Manuel Alcaraz Clemente\, Elisa Azzarà\, Jessica Kaiser\, Margarethe Maierhofer-Lischka\, Walter Ofner\, Ivan TrenevKostüme: Andrea FischerBühnenbau: David RauterTechnik: Philipp KönigAssistenz: Daniel Wiedemaier
URL:http://elisabeth-harnik.at/event/elisabeth-harnik-40/
LOCATION:Griessner Stadl\, 8862 Stadl an der Mur 50\, Stadl an der Mur\, AT
END:VEVENT
BEGIN:VEVENT
DTSTART;TZID=UTC:20220704T193000
DTEND;TZID=UTC:20220707T000000
DTSTAMP:20260421T152447
CREATED:20230411T140622Z
LAST-MODIFIED:20230411T140622Z
UID:2621-1656963000-1657152000@elisabeth-harnik.at
SUMMARY:Elisabeth Harnik
DESCRIPTION:ICTUS Festival4 DAYS OF JAZZ\, IMPROVISATION AND NEW MUSIC CELEBRATING THE 45 YEARS OF ICTUS RECORDSFIRST NIGHT JULY 4th:ORBITSHarri Sjöström (sax) FinlandSergio Armaroli (vibes) ItalySteve Piccolo (el.bass) USA/ItalyGiancarlo Schiaffini (tb) ItalyBINARY SOULSSteve Hubback (drums) UKFrancesca Gemmo (piano) ItalyEllen Burr (Flutes) USATHE SOUL IN THE MISTJeff Schwartz (bass) USAVasco Trilla (drums) Spain/PortugalCarlo Actis Dato (bass clarinet)TWIN PEAKSELISABETH HARNIK (piano) AustriaAndrea Centazzo (percussion/elec.) USASteve Swell (tb) USASECOND NIGHT JULY 5th:THE GATESRoberto Ottaviano (sax) ItalySteve Hubback (perc.) UKFrancesca Gemmo (piano) ItalyGiancarlo Schiaffini (tb) ItalySTEPSSergio  Armaroli (vibes) ItalyHarri Sjöström (sax) FinlandSteve Swell (tb) USAVasco Trilla (drums) Spain/PortugalLAVA FLOWSElliott Sharp (guit.) USAELISABETH HARNIK (piano/keyb.) AustriaSteve Piccolo (el.bass) USA/ItalyCarlo Actis Dato (bass clarinet)LA STRICTLY CONFIDENTIALJeff Schwartz (bass) USAEllen Burr (flutes) USAAndrea Centazzo (percussion/elec) USASergio Armaroli (vibes) ItalyTHIRD NIGHT JULY 6th:KOANS (PERCUSSION)Sergio Armaroli (vibes) ItalyVasco Trilla (drums) Spain/PortugalSteve Hubback (drums) UKAndrea Centazzo (percussion/elec.) USAON A RAINY DAYRoberto Ottaviano (sax) ItalyHarri Sjöström (sax) FinlandVasco Trilla (drums) Spain/PortugalGiancarlo Schiaffini (tb) ItalyFranco Feruglio (bass) ItalyEllen Burr (flutes) USAFLIGHTS OF FANCYGuido Mazzon (tp) ItalyJeff Schwartz (bass) USAElbio Barilari (sax) Uruguay/USAFrancesca Gemmo (piano) ItalySteve Hubback (drums) UKHarri  Sjöström (sax) FinlandSNOW PLOWELISABETH HARNIK (piano/keyb.) AustriaElliott Sharp (guit.) USAJulia Miller (guit.) USAAndrea Centazzo (percussion/elec) USASergio Armaroli (vibes) ItalySteve Swell (tb) USAFOURTH NIGHT JULY 7th:MOON IN JUNEFrancesca Gemmo (piano) ItalyCarlo Actis Dato (bass clarinet)Sergio Armaroli (vibes) ItalyJulia Miller (guit.) USASteve Hubback (drums) UKLATECOMERSSteve Swell (tb) USAGiancarlo Schiaffini (tb) ItalyELISABETH HARNIK (piano) AustriaAndrea Centazzo (percussion/elec.) USATHE BATTLE (Electric)Elliott Sharp (guit.) USAJulia Miller (guit.) USAELISABETH HARNIK (synth organ keyb.) AustriaSteve Piccolo (el.bass) USA/ItalyAndrea Centazzo (elec) USA\nTHE BATTLE (Acoustic)Sergio  Armaroli (vibes) ItalyGiancarlo  Schiaffini (tb) ItalySteve Swell (tb) USAEllen Burr (Flutes) USAGuido Mazzon (tp) ItalyEllen Burr (flutes) USAElbio Barilari (sax/tp) Uruguay/USARoberto Ottaviano (sax) ItalyHarri  Sjöström (sax) FinlandFrancesca Gemmo (piano) ItalyELISABETH HARNIK (synth organ keyb.) AustriaJeff Schwartz (bass) USAVasco  Trilla (drums) Spain/PortugalSteve Hubback (drums) UKCarlo Actis Dato (bass clarinet)Andrea Centazzo (Conduction) USA
URL:http://elisabeth-harnik.at/event/elisabeth-harnik-41/
LOCATION:Teatro Out Off\, Milano\, IT
END:VEVENT
BEGIN:VEVENT
DTSTART;TZID=UTC:20220614T193000
DTEND;TZID=UTC:20220614T193000
DTSTAMP:20260421T152447
CREATED:20230411T140622Z
LAST-MODIFIED:20230411T140622Z
UID:2622-1655235000-1655235000@elisabeth-harnik.at
SUMMARY:Elisabeth Harnik
DESCRIPTION:Kulturverein Achteck/Musik in Krumegg present:Harnik/Kaučič Duo (AT/SI)Elisabeth Harnik\, piano\, objectsZlatko Kaučič\, drums\, percussion
URL:http://elisabeth-harnik.at/event/elisabeth-harnik-42/
LOCATION:Kulturhalle Eggersdorf bei Graz\, Eggersdorf\, AT
END:VEVENT
BEGIN:VEVENT
DTSTART;TZID=UTC:20220610T200000
DTEND;TZID=UTC:20220610T200000
DTSTAMP:20260421T152447
CREATED:20230411T140636Z
LAST-MODIFIED:20230411T140636Z
UID:2624-1654891200-1654891200@elisabeth-harnik.at
SUMMARY:Kunsthaltestelle Streckhammerhaus
DESCRIPTION:Mariá Portugal Solo & Portugal/Harnik Duo (BR/DE/AT)Mariá Portugal – drums\, voiceElisabeth Harnik – piano\, objectsBegrenzte Sitzplätze!Um Voranmeldung unter 0680 21 33 086 wird gebeten!
URL:http://elisabeth-harnik.at/event/kunsthaltestelle-streckhammerhaus-3/
LOCATION:Kunsthaltestelle Streckhammerhaus\, Frohnleiten\, Gamsgraben 4\, 8130 Frohnleiten\, Frohnleiten\, AT
END:VEVENT
BEGIN:VEVENT
DTSTART;TZID=UTC:20220610T200000
DTEND;TZID=UTC:20220610T200000
DTSTAMP:20260421T152447
CREATED:20230411T140623Z
LAST-MODIFIED:20230411T140623Z
UID:2623-1654891200-1654891200@elisabeth-harnik.at
SUMMARY:Elisabeth Harnik
DESCRIPTION:Kunsthaltestelle Streckhammerhaus presents:Mariá Portugal Solo & Portugal/Harnik Duo (BR/DE/AT)Mariá Portugal – drums\, voiceElisabeth Harnik – piano\, objects
URL:http://elisabeth-harnik.at/event/elisabeth-harnik-43/
LOCATION:Kunsthaltestelle Streckhammerhaus\, Frohnleiten\, Gamsgraben 4\, 8130 Frohnleiten\, Frohnleiten\, AT
END:VEVENT
BEGIN:VEVENT
DTSTART;TZID=UTC:20220520T200000
DTEND;TZID=UTC:20220520T200000
DTSTAMP:20260421T152447
CREATED:20230411T140636Z
LAST-MODIFIED:20230411T140636Z
UID:2625-1653076800-1653076800@elisabeth-harnik.at
SUMMARY:Elisabeth Harnik
DESCRIPTION:Cantando Admont_concert talk IIVocal ensemble Cantando Admont presents music by Hildegard von Bingen (1098 – 1179)\, Younghi Pagh-Paan (*1945)\, Isabella Leonarda (1620 – 1704)\, Elisabeth Harnik (*1970) and Alexandra Filonenko (*1972).Elisabeth Harnik:‘Solo for Gertrude’ for voice (2011)\, text after Gertrude SteinHelena Sorokina\, voiceElisabeth Harnik:‘belem’ for four female voices (2005)\, text after SapphoFriederike Kühl\, Elina Viluma-Helling\, Mariko Kageyama\, Helena Sorokina\, voice
URL:http://elisabeth-harnik.at/event/elisabeth-harnik-44/
LOCATION:Mariahilferkirche\, Graz\, AT
END:VEVENT
BEGIN:VEVENT
DTSTART;TZID=UTC:20220519T200000
DTEND;TZID=UTC:20220519T200000
DTSTAMP:20260421T152447
CREATED:20230411T140636Z
LAST-MODIFIED:20230411T140636Z
UID:2626-1652990400-1652990400@elisabeth-harnik.at
SUMMARY:Elisabeth Harnik
DESCRIPTION:free music forum concert series 2022 presents:Gasser/Harnik/Trilla (CH/AT/ES)WORLDPREMIEREClementine Gasser\, celloElisabeth Harnik\, pianoVasco Trilla\, percussion& DJ Didi Kern with Jazz & Whisky
URL:http://elisabeth-harnik.at/event/elisabeth-harnik-45/
LOCATION:Club Celeste\, Vienna\, AT
END:VEVENT
BEGIN:VEVENT
DTSTART;TZID=UTC:20220517T200000
DTEND;TZID=UTC:20220517T200000
DTSTAMP:20260421T152447
CREATED:20230411T140636Z
LAST-MODIFIED:20230411T140636Z
UID:2627-1652817600-1652817600@elisabeth-harnik.at
SUMMARY:Elisabeth Harnik
DESCRIPTION:STIO meets GGRIL – Styrian Improvisers Orchestra (AT) | Grand groupe régional d’improvisation libérée (CA)First set:THE GGRIL: Catherine S. Massicotte (violin)\, Patricia Ho-Yi Wang (violin)\, Clarisse Bériault (oboe)\, Sébastien Côrriveau (bass clarinet)\, Emie Lachapelle (alto saxophone)\, Robin Servant (accordion)\, Isabelle Clermont (electric harp)\, Marc-Antoine Mackin-Guay (baritone guitar)\, Olivier D’Amours (electric guitar)\, Pascal Landry (classical guitar)\, Luke Dawson (upright bass)\, Thomas Gaudet-Asselin (electric bass)\, Éric Normand (electric bass)\, Tom Jacques (percussion)Second set:STIO meets GGRILElisabeth Harnik\, conduction
URL:http://elisabeth-harnik.at/event/elisabeth-harnik-46/
LOCATION:Stockwerk\, Stockwerk\, Jakominiplatz 18\, Graz\, Steiermark\, AT
END:VEVENT
END:VCALENDAR