BEGIN:VCALENDAR
VERSION:2.0
PRODID:-//Elisabeth Harnik - ECPv6.15.17.1//NONSGML v1.0//EN
CALSCALE:GREGORIAN
METHOD:PUBLISH
X-WR-CALNAME:Elisabeth Harnik
X-ORIGINAL-URL:http://elisabeth-harnik.at
X-WR-CALDESC:Events for Elisabeth Harnik
REFRESH-INTERVAL;VALUE=DURATION:PT1H
X-Robots-Tag:noindex
X-PUBLISHED-TTL:PT1H
BEGIN:VTIMEZONE
TZID:UTC
BEGIN:STANDARD
TZOFFSETFROM:+0000
TZOFFSETTO:+0000
TZNAME:UTC
DTSTART:20220101T000000
END:STANDARD
END:VTIMEZONE
BEGIN:VEVENT
DTSTART;TZID=UTC:20231015T180000
DTEND;TZID=UTC:20231015T193000
DTSTAMP:20260421T095557
CREATED:20230910T174914Z
LAST-MODIFIED:20230910T174914Z
UID:3163-1697392800-1697398200@elisabeth-harnik.at
SUMMARY:Samo Salamon / Elisabeth Harnik Duo
DESCRIPTION:KUNSTHALTESTELLE STRECKHAMMERHAUS GOES ELECTRIC #2 | Samo Salamon (guitar) Solo & Duo with Elisabeth Harnik (piano\, objects)
URL:http://elisabeth-harnik.at/event/samo-salamon-elisabeth-harnik-duo/
LOCATION:Kunsthaltestelle Streckhammerhaus\, Frohnleiten\, Gamsgraben 4\, 8130 Frohnleiten\, Frohnleiten\, AT
END:VEVENT
BEGIN:VEVENT
DTSTART;TZID=UTC:20231011T190000
DTEND;TZID=UTC:20231011T203000
DTSTAMP:20260421T095557
CREATED:20230921T143015Z
LAST-MODIFIED:20230921T143015Z
UID:3175-1697050800-1697056200@elisabeth-harnik.at
SUMMARY:[Cl]ear Steps Around the Piano
DESCRIPTION:New works by Sebastian Dumitrescu\, ELISABETH HARNIK\, Dana Cristina Probst\, Christoph Renhart\,Petra Stump\, Šimon Voseček and Ming Wang | Petra Stump – bass clarinet | Heinz-Peter Linshalm – bass clarinet & clarinet | Kaori Nishii and Otto Probst – piano four hands | Dana Cristina Probst – concept\, organisation | Elisabeth Harnik: earwheel for two rotating bass clarinettists at quarter-tone intervals (2023) \n 
URL:http://elisabeth-harnik.at/event/clear-steps-around-the-piano-2/
LOCATION:Alte Schmiede\, Schönlaterngasse 9\, 1010 Vienna\, Vienna\, AT
END:VEVENT
BEGIN:VEVENT
DTSTART;TZID=UTC:20231005T150000
DTEND;TZID=UTC:20231005T163000
DTSTAMP:20260421T095557
CREATED:20230910T180331Z
LAST-MODIFIED:20230910T180331Z
UID:3166-1696518000-1696523400@elisabeth-harnik.at
SUMMARY:konfrontationen 9: music – common language (?)
DESCRIPTION:Final presentation of new works which were created together with musicians and contemporary music composers\, students from the Musikgymnasium Graz\, Stiftsgymnasium Admont\, Musikmittelschule Großklein\, Musikschule Vasoldsberg\, ASO Fürstenfeld\, and the social Vivaldi Project in connection with the string choir of the Johann-Joseph-Fux Conservatory\, deal with the sonic language of Neue Musik. ELISABETH HARNIK facilitated the creation of a new work with the social Vivaldi Project in connection with the string choir of the Johann-Joseph-Fux Conservatory.
URL:http://elisabeth-harnik.at/event/konfrontationen-9-music-common-language/
LOCATION:Helmut List Halle\, Graz\, AT
END:VEVENT
BEGIN:VEVENT
DTSTART;TZID=UTC:20231004T190000
DTEND;TZID=UTC:20231004T203000
DTSTAMP:20260421T095557
CREATED:20230921T145705Z
LAST-MODIFIED:20230921T145705Z
UID:3181-1696446000-1696451400@elisabeth-harnik.at
SUMMARY:Hörweiten | Klaus Haidl (guitar)
DESCRIPTION:Klaus Haidl (guitar) performs works by Gunter Schneider\, Burkhard Stangl\, ELISABETH HARNIK\, Wolfgang Seierl\, Martin Gut and Martin Daske | Elisabeth Harnik: (in) hörweite for solo guitar (2003)
URL:http://elisabeth-harnik.at/event/horweiten-klaus-haidl-guitar/
LOCATION:Alte Schmiede\, Schönlaterngasse 9\, 1010 Vienna\, Vienna\, AT
END:VEVENT
BEGIN:VEVENT
DTSTART;TZID=UTC:20231004T190000
DTEND;TZID=UTC:20231004T203000
DTSTAMP:20260421T095557
CREATED:20230921T141955Z
LAST-MODIFIED:20230921T141955Z
UID:3172-1696446000-1696451400@elisabeth-harnik.at
SUMMARY:[Cl]ear Steps Around the Piano
DESCRIPTION:New works by Sebastian Dumitrescu\, ELISABETH HARNIK\, Dana Cristina Probst\, Christoph Renhart\,Petra Stump\, Šimon Voseček and Ming Wang | Petra Stump – bass clarinet | Heinz-Peter Linshalm – bass clarinet & clarinet | Kaori Nishii and Otto Probst – piano four hands | Dana Cristina Probst – concept\, organisation | Elisabeth Harnik: earwheel for two rotating bass clarinettists at quarter-tone intervals (2023)
URL:http://elisabeth-harnik.at/event/clear-steps-around-the-piano/
LOCATION:Kulturzentrum bei den Minoriten_ImCubus\, Mariahilferplatz 3/I\, 8020 Graz\, Graz\, AT
END:VEVENT
BEGIN:VEVENT
DTSTART;TZID=UTC:20231002T190000
DTEND;TZID=UTC:20231002T203000
DTSTAMP:20260421T095557
CREATED:20230921T145355Z
LAST-MODIFIED:20230921T145746Z
UID:3177-1696273200-1696278600@elisabeth-harnik.at
SUMMARY:Klaus Haidl Solo & Koehne Quartett
DESCRIPTION:Klaus Haidl (guitar) performs works for guitar by ELISABETH HARNIK\, Gunter Schneider\, Burkhard Stangl and Martin Gut | Koehne Quartett performs works for string quartet by Lacroix\, Gut\, Kirchner and Lukan | Elisabeth Harnik: (in) hörweite for solo guitar (2003)
URL:http://elisabeth-harnik.at/event/klaus-haidl-solo-koehne-quartett/
LOCATION:Ursulakapelle\, Krems\, Austria
END:VEVENT
BEGIN:VEVENT
DTSTART;TZID=UTC:20230928T200000
DTEND;TZID=UTC:20230928T213000
DTSTAMP:20260421T095557
CREATED:20230905T164712Z
LAST-MODIFIED:20230905T164712Z
UID:3148-1695931200-1695936600@elisabeth-harnik.at
SUMMARY:Das Erdbeben in Chili
DESCRIPTION:Die Grazer Spielstätten präsentieren im Rahmen des „steirischen herbst“: Griessner Stadl in Graz | Elisabeth Harnik und Martin Kreidt: ​Das Erdbeben in Chili | Neue Volksoper\nTermine: 28.\, 30. September & 2. Oktober 2023 | jeweils 20:00 Uhr | Dauer: 75 min\nDom im Berg | Graz | Schloßbergplatz (barrierefrei zugänglich\, über Schloßberglift)\nDie Neue Volksoper DAS ERDBEBEN IN CHILI wurde 2022 im GRIESSNER STADL uraufgeführt.\nMit Elisabeth Harnik\, Musiker:innen des Schallfeld Ensembles und dem Griessner Stadl stellen die Grazer Spielstätten gleich drei steirische Kulturpreisträger:innen 2022 ins Rampenlicht dieser Produktion. Somit ist es ein logischer Schritt DAS ERDBEBEN IN CHILI auch endlich in Graz zu zeigen. Diese neue Fassung zeigt wie Neue Volksoper im 21. Jahrhundert klingen und szenisch umgesetzt werden kann.\nMit: Clara Sabin\, Helena Sorokina\, Jessica Kaiser\, Margarethe Maierhofer-Lischka\, Audrey Perrault\, Manuel Alcaraz-Clemente\, Stefan Jovanovic\, Walter Ofner\, Herbert Schwaiger\, Ivan Trenev\nKomposition / musikalische Leitung: Elisabeth Harnik\nRegie / Libretto / Bühne: Martin Kreidt\nKostüme: Andrea Fischer\nProduktion: GRIESSNER STADL: Anita Winkler\, Ferdinand Nagele\, Daniel Wiedemaier
URL:http://elisabeth-harnik.at/event/das-erdbeben-in-chili/
LOCATION:Dom im Berg\, Graz\, AT
END:VEVENT
BEGIN:VEVENT
DTSTART;TZID=UTC:20230916T130000
DTEND;TZID=UTC:20230916T230000
DTSTAMP:20260421T095557
CREATED:20230905T163035Z
LAST-MODIFIED:20230905T163035Z
UID:3142-1694869200-1694905200@elisabeth-harnik.at
SUMMARY:13. Brda contemporary music festival
DESCRIPTION:Boštjan’s day | Cinema hall Medana: 13:00 Nazim Comunale (IT) – poetry; Flavio Zanuttini (IT) – electronics & trumpet | 18:00 Vida Mokrin Pauer (SI) – poetry; Aleksander Arsov (SI) – electric guitar & effects | Church of the Assumption of Mary Medana: 20:00 Sofia Jernberg (SWE) – voice | Cinema hall Medana: 21:00 ELISABETH HARNIK (AT) – piano; HARRI SJÖSTRÖM (FIN) – soprano sax | 22:00 Mats Gustafsson’s workshop final concert
URL:http://elisabeth-harnik.at/event/13-brda-contemporary-music-festival/
LOCATION:Cinema Hall Medana\, Medana\, Slovenia
END:VEVENT
BEGIN:VEVENT
DTSTART;TZID=UTC:20230909T200000
DTEND;TZID=UTC:20230909T220000
DTSTAMP:20260421T095557
CREATED:20230806T162547Z
LAST-MODIFIED:20230806T162547Z
UID:3137-1694289600-1694296800@elisabeth-harnik.at
SUMMARY:BLIND DATE: Munka/Coudoux + Kunz/Harnik
DESCRIPTION:Blind Date 1: Duo Anne Munka & Elisabeth Coudoux | Blind Date 2: Duo Christopher Kunz & Elisabeth Harnik | Christopher Kunz – soprano saxophone\, tenor saxophone; Elisabeth Harnik -piano\, objects
URL:http://elisabeth-harnik.at/event/blind-date-munka-coudoux-kunz-harnik/
LOCATION:Theaterhaus Schille\, Leipzig\, Germany
END:VEVENT
BEGIN:VEVENT
DTSTART;TZID=UTC:20230830T193000
DTEND;TZID=UTC:20230830T203000
DTSTAMP:20260421T095557
CREATED:20230806T141732Z
LAST-MODIFIED:20230806T141732Z
UID:3130-1693423800-1693427400@elisabeth-harnik.at
SUMMARY:Georg Baselitz – Malelade | OPENING
DESCRIPTION:Exhibition opening with Ensemble Kontrapunkte | Cantando Admont | Jaap Blonk performing works by ELISABETH HARNIK and OLGA NEUWIRTH: Elisabeth Harnik: Bein im Sprung – for solo bass\, four female voices\, violin\, viola\, cello and doublebass; text after Georg Baselitz (2021) | Olga Neuwirth: Georg Baselitz – for string quartet and fixed media with a text by Georg Baselitz (2021)
URL:http://elisabeth-harnik.at/event/georg-baselitz-malelade-opening/
LOCATION:Pinakothek der Moderne\, Munich
END:VEVENT
BEGIN:VEVENT
DTSTART;TZID=UTC:20230819T180000
DTEND;TZID=UTC:20230819T230000
DTSTAMP:20260421T095557
CREATED:20230707T082152Z
LAST-MODIFIED:20230707T082152Z
UID:3113-1692468000-1692486000@elisabeth-harnik.at
SUMMARY:Where Swallows Fly Backwards Festival 2023
DESCRIPTION:Line up: My Friend Peter | Elisabeth Harnik & Didi Kern & Martin Brandlmayr | Isabella Forciniti | Adelita Escapes + Space Gear | Grrrls DJ-Crew // Elisabeth Harnik – piano\, Didi Kern – drums\, Martin Brandlmayr – drums
URL:http://elisabeth-harnik.at/event/where-swallows-fly-backwards-festival-2023/
LOCATION:Wörth 14\, Gnas\, Austria
END:VEVENT
BEGIN:VEVENT
DTSTART;TZID=UTC:20230813T110000
DTEND;TZID=UTC:20230813T120000
DTSTAMP:20260421T095557
CREATED:20230707T081131Z
LAST-MODIFIED:20230707T081307Z
UID:3109-1691924400-1691928000@elisabeth-harnik.at
SUMMARY:23 Hotelpupik / Artists in residence
DESCRIPTION:Organ matinee concert in cooperation with Orgelbau Vonbank | Elisabeth Harnik – organ\, waterphone 
URL:http://elisabeth-harnik.at/event/23-hotelpupik-artists-in-residence/
LOCATION:Kapuzinerkirche\, Murau
END:VEVENT
BEGIN:VEVENT
DTSTART;TZID=UTC:20230808T161500
DTEND;TZID=UTC:20230808T164500
DTSTAMP:20260421T095557
CREATED:20230707T075447Z
LAST-MODIFIED:20230707T075447Z
UID:3104-1691511300-1691513100@elisabeth-harnik.at
SUMMARY:51st DARMSTADT SUMMER COURSE 2023
DESCRIPTION:50+ Years of Creative Music: Anthony Braxton’s music\, philosophy and legacy | International Conference 7 & 8 August 2023 | Elisabeth Harnik & Timo Hoyer: Anthony Braxton’s compositions for solo piano. A performance-lecture.
URL:http://elisabeth-harnik.at/event/51st-darmstadt-summer-course-2023/
LOCATION:Lichtenbergschule (Mensa)\, Darmstadt\, Germany
END:VEVENT
BEGIN:VEVENT
DTSTART;TZID=UTC:20230728T200000
DTEND;TZID=UTC:20230728T213000
DTSTAMP:20260421T095557
CREATED:20230725T181835Z
LAST-MODIFIED:20230725T181835Z
UID:3127-1690574400-1690579800@elisabeth-harnik.at
SUMMARY:Maria Gstättner solo & duo with Elisabeth Harnik
DESCRIPTION:KUNSTHALTESTELLE GOES LOW SOUNDS #2: Maria Gstättner – bassoon\, voice | Elisabeth Harnik – piano\, objects
URL:http://elisabeth-harnik.at/event/maria-gstattner-solo-duo-with-elisabeth-harnik-2/
LOCATION:Kunsthaltestelle Streckhammerhaus\, Frohnleiten\, Gamsgraben 4\, 8130 Frohnleiten\, Frohnleiten\, AT
END:VEVENT
BEGIN:VEVENT
DTSTART;TZID=UTC:20230709T190000
DTEND;TZID=UTC:20230709T203000
DTSTAMP:20260421T095557
CREATED:20230611T085731Z
LAST-MODIFIED:20230707T073759Z
UID:3094-1688929200-1688934600@elisabeth-harnik.at
SUMMARY:Almut Schlichting solo & duo with Elisabeth Harnik
DESCRIPTION:KUNSTHALTESTELLE STRECKHAMMERHAUS GOES LOW SOUNDS #1:\nAlmut Schlichting – baritone saxophone\nElisabeth Harnik – piano\, objects
URL:http://elisabeth-harnik.at/event/almut-schlichting-solo-almut-schlichting-elisabeth-harnik-duo/
LOCATION:Kunsthaltestelle Streckhammerhaus\, Frohnleiten\, Gamsgraben 4\, 8130 Frohnleiten\, Frohnleiten\, AT
END:VEVENT
BEGIN:VEVENT
DTSTART;TZID=UTC:20230707T080000
DTEND;TZID=UTC:20230707T170000
DTSTAMP:20260421T095557
CREATED:20230707T073649Z
LAST-MODIFIED:20230707T073649Z
UID:3101-1688716800-1688749200@elisabeth-harnik.at
SUMMARY:Maria Gstättner solo & duo with Elisabeth Harnik
DESCRIPTION:KUNSTHALTESTELLE GOES LOW SOUNDS #2:\nMaria Gstättner – bassoon\, Elisabeth Harnik – piano\, objects \n 
URL:http://elisabeth-harnik.at/event/maria-gstattner-solo-duo-with-elisabeth-harnik/
LOCATION:Kunsthaltestelle Streckhammerhaus\, Frohnleiten\, Gamsgraben 4\, 8130 Frohnleiten\, Frohnleiten\, AT
END:VEVENT
BEGIN:VEVENT
DTSTART;TZID=UTC:20230628T200000
DTEND;TZID=UTC:20230628T213000
DTSTAMP:20260421T095557
CREATED:20230611T084121Z
LAST-MODIFIED:20230611T084121Z
UID:3087-1687982400-1687987800@elisabeth-harnik.at
SUMMARY:Trio ANJALI
DESCRIPTION:Annette Giesriegl – voice\, electronics\nJasna Jovicevic – saxophones\, bass clarinet\, flute\nElisabeth Harnik – piano\, objects
URL:http://elisabeth-harnik.at/event/trio-anjali/
LOCATION:Studio 6 of Radio Belgrade\, Belgrade\, RS
END:VEVENT
BEGIN:VEVENT
DTSTART;TZID=UTC:20230625T200000
DTEND;TZID=UTC:20230625T213000
DTSTAMP:20260421T095557
CREATED:20230611T082952Z
LAST-MODIFIED:20230611T083546Z
UID:3084-1687723200-1687728600@elisabeth-harnik.at
SUMMARY:Ensemble Zeitfluss
DESCRIPTION:IN SLEEP\, IN THUNDER…\nMusic by Juan Pablo Trad Hasbun\, Parsa Zandi\, ELISABETH HARNIK and Elliott Carter\nElisabeth Harnik: For B. Outlot\, dedicated to Bertha von Suttner (2014)\nEnsemble Zeitfluss\nEdo Micic\, conductor\nBernd Lambauer\, tenor
URL:http://elisabeth-harnik.at/event/ensemble-zeitfluss/
LOCATION:Kulturzentrum bei den Minoriten_Großer Minoritensaal\, Mariahilferplatz 3\, 8020 Graz\, Graz\, AT
END:VEVENT
BEGIN:VEVENT
DTSTART;TZID=UTC:20230622T200000
DTEND;TZID=UTC:20230622T213000
DTSTAMP:20260421T095557
CREATED:20230611T084841Z
LAST-MODIFIED:20230611T084841Z
UID:3090-1687464000-1687469400@elisabeth-harnik.at
SUMMARY:Styrian Improvisers Orchestra
DESCRIPTION:Austrian Composers Week 2023 presents new works by Khrystyna Kirik\, Alexander J. Eberhard\, Veronika Mayer\, Mara Probst and STIO-members (Elisabeth Harnik a.o.).\nStyrian Improvisers Orchestra
URL:http://elisabeth-harnik.at/event/styrian-improvisers-orchestra/
LOCATION:Mumuth-Haus für Musik und Musiktheater\, Lichtenfelsgasse 14\, 8010 Graz\, Graz\, AT
END:VEVENT
BEGIN:VEVENT
DTSTART;TZID=UTC:20230622T180000
DTEND;TZID=UTC:20230622T193000
DTSTAMP:20260421T095557
CREATED:20230621T075254Z
LAST-MODIFIED:20230621T075254Z
UID:3097-1687456800-1687462200@elisabeth-harnik.at
SUMMARY:re:|sonance for harpsichord
DESCRIPTION:die andere saite presents:\nSonja Leipold\, harpsichord\nWorks by Alyssa Aska\, Klaus Dorffegger\, Rafael Nassif\, ELISABETH HARNIK\, Martin Ritter\,  Anselm Schaufler and Bruno Strobl\nElisabeth Harnik: ‘Noisy Pearl/s’ (2016) \n 
URL:http://elisabeth-harnik.at/event/resonance-for-harpsichord/
LOCATION:Bruseum/Neue Galerie\, Graz\, AT
END:VEVENT
BEGIN:VEVENT
DTSTART;TZID=UTC:20230605T200000
DTEND;TZID=UTC:20230605T213000
DTSTAMP:20260421T095557
CREATED:20230524T125613Z
LAST-MODIFIED:20230524T125632Z
UID:3077-1685995200-1686000600@elisabeth-harnik.at
SUMMARY:Ana Kravanja/Elisabeth Harnik Duo (SI/AT)
DESCRIPTION:Ana Kravanja\, violin\, viola\, voice\, frame drums\, objects\nElisabeth Harnik\, piano\, waterphone\, ringing stones\, objects
URL:http://elisabeth-harnik.at/event/ana-kravanja-elisabeth-harnik-duo-si-at/
LOCATION:Villa For Forest\, Klagenfurt\, AT
END:VEVENT
BEGIN:VEVENT
DTSTART;TZID=UTC:20230603T200000
DTEND;TZID=UTC:20230603T213000
DTSTAMP:20260421T095557
CREATED:20230524T125122Z
LAST-MODIFIED:20230524T125122Z
UID:3075-1685822400-1685827800@elisabeth-harnik.at
SUMMARY:Tanz & Tagtool Festival 23 Vol.2 feat. Elisabeth Harnik
DESCRIPTION:Daughters of Waters #3\nElisabeth Harnik\, piano\, composition\nBea von Schrader\, dance\nDie.Puntigam\, tagtool
URL:http://elisabeth-harnik.at/event/tanz-tagtool-festival-23-vol-2-feat-elisabeth-harnik/
LOCATION:Urhof20\, Grünbach am Schneeberg\, AT
END:VEVENT
BEGIN:VEVENT
DTSTART;TZID=UTC:20230602T193000
DTEND;TZID=UTC:20230602T210000
DTSTAMP:20260421T095557
CREATED:20230524T124546Z
LAST-MODIFIED:20230524T124546Z
UID:3073-1685734200-1685739600@elisabeth-harnik.at
SUMMARY:Tage der Neuen Klaviermusik
DESCRIPTION:Opening concert Kim/Molnár\nEunhye Kim (piano) and Sztella Molnár (piano) perform works by Michael Amann\, Siegfried Friedrich\, ELISABETH HARNIK\, Alexandra Karastoyanova-Hermetin\, Daniel Moser\, Alexander Stankovski and Amit Weiner.\nElisabeth Harnik:\n‘of all stars the most beautiful’ for piano (2018/19)\nSztella Molnár\, piano
URL:http://elisabeth-harnik.at/event/tage-der-neuen-klaviermusik/
LOCATION:KULTUM Kulturzentrum bei den Minoriten\, Graz\, AT
END:VEVENT
BEGIN:VEVENT
DTSTART;TZID=UTC:20230526T230000
DTEND;TZID=UTC:20230526T235500
DTSTAMP:20260421T095557
CREATED:20230509T112737Z
LAST-MODIFIED:20230509T112737Z
UID:3056-1685142000-1685145300@elisabeth-harnik.at
SUMMARY:Šalter Ensemble
DESCRIPTION:Videoex – International Experimental Film & Video Festival\nCiné Dada II + Šalter Ensemble\nBallet mécanique (FR 1924\, 17 min\, HD)\, Fernand Léger & Dudley Murphy\nAnémic cinéma (FR 1926\, 7 min\, HD)\, Rrose Sélavy AKA Marcel Duchamp\nVormittagsspuk (DE 1928\, 7 min\, HD)\, Hans Richter\nŠalter Ensemble: Gaudenz Badrutt\, electronics\, Estelle Beiner\, violin\, Ilia Belorukov\, saxophone\, Tomaž Grom\, doublebass\, electronics\, Elisabeth Harnik\, piano\, prepared piano\, Josef Klammer\, drums\, electronics\, Jonas Kocher\, accordion\, Samo Kutin\, hurdy gurdy\, Alfred Lang\, trumpet\, Irena Z. Tomažin\, voice\nNew works for ensemble from Jonas Kocher & Gaudenz Badrutt\, Elisabeth Harnik and Tomaž Grom\nArtistic direction: Harnik/Badrutt-Kocher/Grom
URL:http://elisabeth-harnik.at/event/salter-ensemble-4/
LOCATION:Kunstraum Walcheturm\, Zürich\, Switzerland
END:VEVENT
BEGIN:VEVENT
DTSTART;TZID=UTC:20230525T200000
DTEND;TZID=UTC:20230525T210000
DTSTAMP:20260421T095557
CREATED:20230509T111651Z
LAST-MODIFIED:20230509T111651Z
UID:3053-1685044800-1685048400@elisabeth-harnik.at
SUMMARY:Šalter Ensemble
DESCRIPTION:Line Up 2023: Gaudenz Badrutt\, electronics\, Estelle Beiner\, violin\, Ilia Belorukov\, saxophone\, Tomaž Grom\, doublebass\, electronics\, Elisabeth Harnik\, piano\, prepared piano\, Josef Klammer\, drums\, electronics\, Jonas Kocher\, accordion\, Samo Kutin\, hurdy gurdy\, Alfred Lang\, trumpet\, Irena Z. Tomažin\, voice\nNew works for ensemble from Jonas Kocher & Gaudenz Badrutt\, Elisabeth Harnik and Tomaž Grom\nArtistic direction: Harnik/Badrutt-Kocher/Grom
URL:http://elisabeth-harnik.at/event/salter-ensemble-3/
LOCATION:Le Singe\, Biel/Bienne\, Switzerland
END:VEVENT
BEGIN:VEVENT
DTSTART;TZID=UTC:20230520T173000
DTEND;TZID=UTC:20230520T183000
DTSTAMP:20260421T095557
CREATED:20230509T113427Z
LAST-MODIFIED:20230509T113931Z
UID:3059-1684603800-1684607400@elisabeth-harnik.at
SUMMARY:Ana Kravanja / Elisabeth Harnik Duo
DESCRIPTION:28. Jazz Cerkno 2023\nAna Kravanja (violin\, viola\, voice\, frame drums\, objects)\nElisabeth Harnik (piano\, objects\, waterphone\, ringing stones)
URL:http://elisabeth-harnik.at/event/ana-kravanja-elisabeth-harnik-duo/
LOCATION:Glasbena šola Cerkno\, Cerkno\, Slovenia
END:VEVENT
BEGIN:VEVENT
DTSTART;TZID=UTC:20230519T193000
DTEND;TZID=UTC:20230519T203000
DTSTAMP:20260421T095557
CREATED:20230509T111204Z
LAST-MODIFIED:20230509T114936Z
UID:3050-1684524600-1684528200@elisabeth-harnik.at
SUMMARY:ŠALTER ENSEMBLE
DESCRIPTION:28. Jazz Cerkno 2023\nLine Up 2023: Gaudenz Badrutt\, electronics\, Estelle Beiner\, violin\, Ilia Belorukov\, saxophone\, Tomaž Grom\, doublebass\, electronics\, Elisabeth Harnik\, piano\, prepared piano\, Josef Klammer\, drums\, electronics\, Jonas Kocher\, accordion\, Samo Kutin\, hurdy gurdy\, Alfred Lang\, trumpet\, Irena Z. Tomažin\, voice\nNew works for ensemble from Jonas Kocher & Gaudenz Badrutt\, Elisabeth Harnik and Tomaž Grom\nArtistic direction: Harnik/Badrutt-Kocher/Grom
URL:http://elisabeth-harnik.at/event/salter-ensemble-2/
LOCATION:Main stage\, Cerkno
END:VEVENT
BEGIN:VEVENT
DTSTART;TZID=UTC:20230507T180000
DTEND;TZID=UTC:20230507T193000
DTSTAMP:20260421T095557
CREATED:20230509T114509Z
LAST-MODIFIED:20230509T114509Z
UID:3067-1683482400-1683487800@elisabeth-harnik.at
SUMMARY:Luis Lopes/Elisabeth Harnik Duo
DESCRIPTION:KUNSTHALTESTELLE GOES ELECTRIC #1\nLuis Lopes\, guitar\nElisabeth Harnik\, piano
URL:http://elisabeth-harnik.at/event/luis-lopes-elisabeth-harnik-duo/
LOCATION:Kunsthaltestelle Streckhammerhaus\, Frohnleiten\, Gamsgraben 4\, 8130 Frohnleiten\, Frohnleiten\, AT
END:VEVENT
BEGIN:VEVENT
DTSTART;TZID=UTC:20230505T190000
DTEND;TZID=UTC:20230505T203000
DTSTAMP:20260421T095557
CREATED:20230509T110357Z
LAST-MODIFIED:20230509T110357Z
UID:3048-1683313200-1683318600@elisabeth-harnik.at
SUMMARY:ŠALTER ENSEMBLE
DESCRIPTION:Line Up 2023: Gaudenz Badrutt\, electronics\, Estelle Beiner\, violin\, Ilia Belorukov\, saxophone\, Tomaž Grom\, doublebass\, electronics\, Elisabeth Harnik\, piano\, prepared piano\, Josef Klammer\, drums\, electronics\, Jonas Kocher\, accordion\, Samo Kutin\, hurdy gurdy\, Alfred Lang\, trumpet\, Irena Z. Tomažin\, voice\nNew works for ensemble from Jonas Kocher & Gaudenz Badrutt\, Elisabeth Harnik and Tomaž Grom\nArtistic direction: Harnik/Badrutt-Kocher/Grom
URL:http://elisabeth-harnik.at/event/salter-ensemble/
LOCATION:Forte Marghera\, Venezia Mestre\, Italy
END:VEVENT
BEGIN:VEVENT
DTSTART;TZID=UTC:20230429T120000
DTEND;TZID=UTC:20230505T000000
DTSTAMP:20260421T095557
CREATED:20230411T102744Z
LAST-MODIFIED:20230417T164147Z
UID:1966-1682769600-1683244800@elisabeth-harnik.at
SUMMARY:ŠALTER ENSEMBLE RESIDENCY
DESCRIPTION:Line Up 2023:\nGaudenz Badrutt\, electronics\, Estelle Beiner\, violin\, Ilia Belorukov\, saxophone\, Tomaž Grom\, doublebass\, electronics\, Elisabeth Harnik\, piano\, prepared piano\, Josef Klammer\, drums\, electronics\, Jonas Kocher\, accordion\, Samo Kutin\, hurdy gurdy\, Alfred Lang\, trumpet\, Irena Z. Tomažin\, voice\nNew works for ensemble from Jonas Kocher & Gaudenz Badrutt\, Elisabeth Harnik and Tomaž Grom\nMay 5th: ŠALTER ENSEMBLE IN CONCERT with premieres of the new works\nArtistic direction: Harnik/Badrutt-Kocher/Grom
URL:http://elisabeth-harnik.at/event/elisabeth-harnik/
LOCATION:Forte Marghera\, Venezia Mestre\, Italy
END:VEVENT
END:VCALENDAR